Workbook
Name BBCOCap: 'All Teams Info'!$B$3:$B$346
Name BBCoCapEmail: 'All Teams Info'!$C$3:$C$346
Name BBTeamName: 'All Teams Info'!$A$4:$A$346
Name BBTeams: 'All Teams Info'!$A$3:$H$346
Name CoCaptainContact: Contact!$B$1:$D$255
Name Contact: Contact!$A$1:$E$255
Name teams: 'Game Schedule'!$O$4:$O$28

Sheet Game Results
F1: Select your team to see the games | G1: Community Derangement
F2: Captain | G2: =VLOOKUP(G1,BBTeams,2,FALSE) -> Brian Free | H2: =VLOOKUP(G1,BBTeams,3,FALSE) -> brian.free@gov.ab.ca | L2: =VLOOKUP(G1,Contact,4,FALSE) -> 780 427-7765
F3: Co-captain | G3: =INDEX(BBCOCap,MATCH(G1,BBTeamName,0)+3) -> Fran Proulx | H3: =INDEX(BBCoCapEmail,MATCH(G1,BBTeamName,0)+3) -> fran.proulx@gov.ab.ca | L3: =VLOOKUP(G3,CoCaptainContact,3,FALSE) -> 780 427-2306
F4: Got balls | G4: =VLOOKUP(G1,BBTeams,4,FALSE) -> Yes
F5: Branch | G5: =VLOOKUP(G1,BBTeams,8,FALSE) -> Community Engagement Branch | X5: =MATCH(P10,X10:X33)-O10 -> 2
C7: TUESDAY | D7: Score | G7: WEDNESDAY | H7: Score | K7: THURSDAY | L7: Score
P8: Team Name | Q8: Games Played | R8: Win | S8: Loss | T8: Pts For | U8: Pts Against | V8: Delta Points | W8: Last week dhange
B9: ='Game Schedule'!C4 -> Round 1 Week of May 29-June 2 | E9: 23 | AB9: Pokemons
B10: Game 1 | C10: ='Game Schedule'!D5 -> Alphabet Soup | D10: 6 | E10: =D11 -> 12 | G10: ='Game Schedule'!H5 -> Almost Lethal | H10: 2 | I10: =H11 -> 12 | K10: ='Game Schedule'!L5 -> 99 Problems But a Bocce Ain't One | L10: 5 | M10: =L11 -> 12 | O10: 1 | P10: Denboccerous kickyourassae | Q10: =COUNTIFS(K$10:K$89,P10,L$10:L$89,">=0")+COUNTIFS(G$10:G$89,P10,H$10:H$89,">=0")+COUNTIFS(C$10:C$89,P10,D$10:D$89,">=0")+COUNTIFS(K$10:K$89,P10,L$10:L$89,"W")+COUNTIFS(G$10:G$89,P10,H$10:H$89,"W")+COUNTIFS(C$10:C$89,P10,D$10:D$89,"W")+COUNTIFS(K$10:K$89,P10,L$10:L$89,"L")+COUNTIFS(G$10:G$89,P10,H$10:H$89,"L")+COUNTIFS(C$10:C$89,P10,D$10:D$89,"L") -> 5 | R10: {=SUM(IF(P10=K$10:K$89,IF(L$10:L$89="W",1,IF(L$10:L$89>M$10:M$89,1,0)),0))+SUM(IF(P10=G$10:G$89,IF(H$10:H$89="W",1,IF(H$10:H$89>I$10:I$89,1,0)),0))+SUM(IF(P10=C$10:C$89,IF(D$10:D$89="W",1,IF(D$10:D$89>E$10:E$89,1,0)),0))} -> 5 | S10: {=SUM(IF(P10=K$10:K$89,IF(L$10:L$89="L",1,IF(L$10:L$89<M$10:M$89,1,0)),0))+SUM(IF(P10=G$10:G$89,IF(H$10:H$89="L",1,IF(H$10:H$89<I$10:I$89,1,0)),0))+SUM(IF(P10=C$10:C$89,IF(D$10:D$89="L",1,IF(D$10:D$89<E$10:E$89,1,0)),0))} -> 0 | T10: =SUMIF(K$10:K$89,P10,L$10:L$89)+SUMIF(G$10:G$89,P10,H$10:H$89)+SUMIF(C$10:C$89,P10,D$10:D$89) -> 60 | U10: =SUMIF(K$10:K$89,P10,M$10:M$89)+SUMIF(G$10:G$89,P10,I$10:I$89)+SUMIF(C$10:C$89,P10,E$10:E$89) -> 21 | V10: =T10-U10 -> 39 | W10: =MATCH(P10,X$10:X$33,0)-O10 -> 0 | X10: Denboccerous kickyourassae | Z10: Archbishop of Canterbocce
C11: ='Game Schedule'!D6 -> Ball under Review | D11: 12 | E11: =D10 -> 6 | G11: ='Game Schedule'!H6 -> Balls & Whistles | H11: 12 | I11: =H10 -> 2 | K11: ='Game Schedule'!L6 -> Ball Hogs | L11: 12 | M11: =L10 -> 5 | O11: =O10+1 -> 2 | P11: Ball under Review | Q11: =COUNTIFS(K$10:K$89,P11,L$10:L$89,">=0")+COUNTIFS(G$10:G$89,P11,H$10:H$89,">=0")+COUNTIFS(C$10:C$89,P11,D$10:D$89,">=0")+COUNTIFS(K$10:K$89,P11,L$10:L$89,"W")+COUNTIFS(G$10:G$89,P11,H$10:H$89,"W")+COUNTIFS(C$10:C$89,P11,D$10:D$89,"W")+COUNTIFS(K$10:K$89,P11,L$10:L$89,"L")+COUNTIFS(G$10:G$89,P11,H$10:H$89,"L")+COUNTIFS(C$10:C$89,P11,D$10:D$89,"L") -> 5 | R11: {=SUM(IF(P11=K$10:K$89,IF(L$10:L$89="W",1,IF(L$10:L$89>M$10:M$89,1,0)),0))+SUM(IF(P11=G$10:G$89,IF(H$10:H$89="W",1,IF(H$10:H$89>I$10:I$89,1,0)),0))+SUM(IF(P11=C$10:C$89,IF(D$10:D$89="W",1,IF(D$10:D$89>E$10:E$89,1,0)),0))} -> 5 | S11: {=SUM(IF(P11=K$10:K$89,IF(L$10:L$89="L",1,IF(L$10:L$89<M$10:M$89,1,0)),0))+SUM(IF(P11=G$10:G$89,IF(H$10:H$89="L",1,IF(H$10:H$89<I$10:I$89,1,0)),0))+SUM(IF(P11=C$10:C$89,IF(D$10:D$89="L",1,IF(D$10:D$89<E$10:E$89,1,0)),0))} -> 0 | T11: =SUMIF(K$10:K$89,P11,L$10:L$89)+SUMIF(G$10:G$89,P11,H$10:H$89)+SUMIF(C$10:C$89,P11,D$10:D$89) -> 61 | U11: =SUMIF(K$10:K$89,P11,M$10:M$89)+SUMIF(G$10:G$89,P11,I$10:I$89)+SUMIF(C$10:C$89,P11,E$10:E$89) -> 37 | V11: =T11-U11 -> 24 | W11: =MATCH(P11,X$10:X$33,0)-O11 -> 1 | X11: Bocce Chachi's | Z11: Ball Hogs
B12: Game 2 | C12: ='Game Schedule'!D7 -> B.O.C.C.E. | D12: 6 | E12: =D13 -> 12 | G12: ='Game Schedule'!H7 -> Ballzinga | H12: 12 | I12: =H13 -> 9 | K12: ='Game Schedule'!L7 -> Bocce City Rollers | L12: 12 | M12: =L13 -> 10 | O12: =O11+1 -> 3 | P12: Innovation Expos | Q12: =COUNTIFS(K$10:K$89,P12,L$10:L$89,">=0")+COUNTIFS(G$10:G$89,P12,H$10:H$89,">=0")+COUNTIFS(C$10:C$89,P12,D$10:D$89,">=0")+COUNTIFS(K$10:K$89,P12,L$10:L$89,"W")+COUNTIFS(G$10:G$89,P12,H$10:H$89,"W")+COUNTIFS(C$10:C$89,P12,D$10:D$89,"W")+COUNTIFS(K$10:K$89,P12,L$10:L$89,"L")+COUNTIFS(G$10:G$89,P12,H$10:H$89,"L")+COUNTIFS(C$10:C$89,P12,D$10:D$89,"L") -> 5 | R12: {=SUM(IF(P12=K$10:K$89,IF(L$10:L$89="W",1,IF(L$10:L$89>M$10:M$89,1,0)),0))+SUM(IF(P12=G$10:G$89,IF(H$10:H$89="W",1,IF(H$10:H$89>I$10:I$89,1,0)),0))+SUM(IF(P12=C$10:C$89,IF(D$10:D$89="W",1,IF(D$10:D$89>E$10:E$89,1,0)),0))} -> 4 | S12: {=SUM(IF(P12=K$10:K$89,IF(L$10:L$89="L",1,IF(L$10:L$89<M$10:M$89,1,0)),0))+SUM(IF(P12=G$10:G$89,IF(H$10:H$89="L",1,IF(H$10:H$89<I$10:I$89,1,0)),0))+SUM(IF(P12=C$10:C$89,IF(D$10:D$89="L",1,IF(D$10:D$89<E$10:E$89,1,0)),0))} -> 1 | T12: =SUMIF(K$10:K$89,P12,L$10:L$89)+SUMIF(G$10:G$89,P12,H$10:H$89)+SUMIF(C$10:C$89,P12,D$10:D$89) -> 59 | U12: =SUMIF(K$10:K$89,P12,M$10:M$89)+SUMIF(G$10:G$89,P12,I$10:I$89)+SUMIF(C$10:C$89,P12,E$10:E$89) -> 24 | V12: =T12-U12 -> 35 | W12: =MATCH(P12,X$10:X$33,0)-O12 -> 1 | X12: Ball under Review | Z12: Balls and Whistles
C13: ='Game Schedule'!D8 -> Bocce Chachi's | D13: 12 | E13: =D12 -> 6 | G13: ='Game Schedule'!H8 -> The Carbon Bakers | H13: 9 | I13: =H12 -> 12 | K13: ='Game Schedule'!L8 -> Mad Bocce Fury Balls | L13: 10 | M13: =L12 -> 12 | O13: =O12+1 -> 4 | P13: Mission Imbocceball | Q13: =COUNTIFS(K$10:K$89,P13,L$10:L$89,">=0")+COUNTIFS(G$10:G$89,P13,H$10:H$89,">=0")+COUNTIFS(C$10:C$89,P13,D$10:D$89,">=0")+COUNTIFS(K$10:K$89,P13,L$10:L$89,"W")+COUNTIFS(G$10:G$89,P13,H$10:H$89,"W")+COUNTIFS(C$10:C$89,P13,D$10:D$89,"W")+COUNTIFS(K$10:K$89,P13,L$10:L$89,"L")+COUNTIFS(G$10:G$89,P13,H$10:H$89,"L")+COUNTIFS(C$10:C$89,P13,D$10:D$89,"L") -> 5 | R13: {=SUM(IF(P13=K$10:K$89,IF(L$10:L$89="W",1,IF(L$10:L$89>M$10:M$89,1,0)),0))+SUM(IF(P13=G$10:G$89,IF(H$10:H$89="W",1,IF(H$10:H$89>I$10:I$89,1,0)),0))+SUM(IF(P13=C$10:C$89,IF(D$10:D$89="W",1,IF(D$10:D$89>E$10:E$89,1,0)),0))} -> 4 | S13: {=SUM(IF(P13=K$10:K$89,IF(L$10:L$89="L",1,IF(L$10:L$89<M$10:M$89,1,0)),0))+SUM(IF(P13=G$10:G$89,IF(H$10:H$89="L",1,IF(H$10:H$89<I$10:I$89,1,0)),0))+SUM(IF(P13=C$10:C$89,IF(D$10:D$89="L",1,IF(D$10:D$89<E$10:E$89,1,0)),0))} -> 1 | T13: =SUMIF(K$10:K$89,P13,L$10:L$89)+SUMIF(G$10:G$89,P13,H$10:H$89)+SUMIF(C$10:C$89,P13,D$10:D$89) -> 61 | U13: =SUMIF(K$10:K$89,P13,M$10:M$89)+SUMIF(G$10:G$89,P13,I$10:I$89)+SUMIF(C$10:C$89,P13,E$10:E$89) -> 35 | V13: =T13-U13 -> 26 | W13: =MATCH(P13,X$10:X$33,0)-O13 -> 1 | X13: Innovation Expos | Z13: Ballzinga
B14: Game 3 | C14: ='Game Schedule'!D9 -> Bocce in the Middle | D14: 9 | E14: =D15 -> 12 | G14: ='Game Schedule'!H9 -> Community Derangement | H14: L | I14: =H15 -> W | K14: ='Game Schedule'!L9 -> Denboccerous kickyourassae | L14: 12 | M14: =L15 -> 6 | O14: =O13+1 -> 5 | P14: Bocce Chachi's | Q14: =COUNTIFS(K$10:K$89,P14,L$10:L$89,">=0")+COUNTIFS(G$10:G$89,P14,H$10:H$89,">=0")+COUNTIFS(C$10:C$89,P14,D$10:D$89,">=0")+COUNTIFS(K$10:K$89,P14,L$10:L$89,"W")+COUNTIFS(G$10:G$89,P14,H$10:H$89,"W")+COUNTIFS(C$10:C$89,P14,D$10:D$89,"W")+COUNTIFS(K$10:K$89,P14,L$10:L$89,"L")+COUNTIFS(G$10:G$89,P14,H$10:H$89,"L")+COUNTIFS(C$10:C$89,P14,D$10:D$89,"L") -> 5 | R14: {=SUM(IF(P14=K$10:K$89,IF(L$10:L$89="W",1,IF(L$10:L$89>M$10:M$89,1,0)),0))+SUM(IF(P14=G$10:G$89,IF(H$10:H$89="W",1,IF(H$10:H$89>I$10:I$89,1,0)),0))+SUM(IF(P14=C$10:C$89,IF(D$10:D$89="W",1,IF(D$10:D$89>E$10:E$89,1,0)),0))} -> 4 | S14: {=SUM(IF(P14=K$10:K$89,IF(L$10:L$89="L",1,IF(L$10:L$89<M$10:M$89,1,0)),0))+SUM(IF(P14=G$10:G$89,IF(H$10:H$89="L",1,IF(H$10:H$89<I$10:I$89,1,0)),0))+SUM(IF(P14=C$10:C$89,IF(D$10:D$89="L",1,IF(D$10:D$89<E$10:E$89,1,0)),0))} -> 1 | T14: =SUMIF(K$10:K$89,P14,L$10:L$89)+SUMIF(G$10:G$89,P14,H$10:H$89)+SUMIF(C$10:C$89,P14,D$10:D$89) -> 52 | U14: =SUMIF(K$10:K$89,P14,M$10:M$89)+SUMIF(G$10:G$89,P14,I$10:I$89)+SUMIF(C$10:C$89,P14,E$10:E$89) -> 34 | V14: =T14-U14 -> 18 | W14: =MATCH(P14,X$10:X$33,0)-O14 -> -3 | X14: Mission Imbocceball | Z14: Bocc u didn’t see that comin’
C15: ='Game Schedule'!D10 -> Saucy Balls | D15: 12 | E15: =D14 -> 9 | G15: ='Game Schedule'!H10 -> Parks and Wreck | H15: W | I15: =H14 -> L | K15: ='Game Schedule'!L10 -> Make Bocce Great Again | L15: 6 | M15: =L14 -> 12 | O15: =O14+1 -> 6 | P15: The Carbon Bakers | Q15: =COUNTIFS(K$10:K$89,P15,L$10:L$89,">=0")+COUNTIFS(G$10:G$89,P15,H$10:H$89,">=0")+COUNTIFS(C$10:C$89,P15,D$10:D$89,">=0")+COUNTIFS(K$10:K$89,P15,L$10:L$89,"W")+COUNTIFS(G$10:G$89,P15,H$10:H$89,"W")+COUNTIFS(C$10:C$89,P15,D$10:D$89,"W")+COUNTIFS(K$10:K$89,P15,L$10:L$89,"L")+COUNTIFS(G$10:G$89,P15,H$10:H$89,"L")+COUNTIFS(C$10:C$89,P15,D$10:D$89,"L") -> 5 | R15: {=SUM(IF(P15=K$10:K$89,IF(L$10:L$89="W",1,IF(L$10:L$89>M$10:M$89,1,0)),0))+SUM(IF(P15=G$10:G$89,IF(H$10:H$89="W",1,IF(H$10:H$89>I$10:I$89,1,0)),0))+SUM(IF(P15=C$10:C$89,IF(D$10:D$89="W",1,IF(D$10:D$89>E$10:E$89,1,0)),0))} -> 3 | S15: {=SUM(IF(P15=K$10:K$89,IF(L$10:L$89="L",1,IF(L$10:L$89<M$10:M$89,1,0)),0))+SUM(IF(P15=G$10:G$89,IF(H$10:H$89="L",1,IF(H$10:H$89<I$10:I$89,1,0)),0))+SUM(IF(P15=C$10:C$89,IF(D$10:D$89="L",1,IF(D$10:D$89<E$10:E$89,1,0)),0))} -> 2 | T15: =SUMIF(K$10:K$89,P15,L$10:L$89)+SUMIF(G$10:G$89,P15,H$10:H$89)+SUMIF(C$10:C$89,P15,D$10:D$89) -> 58 | U15: =SUMIF(K$10:K$89,P15,M$10:M$89)+SUMIF(G$10:G$89,P15,I$10:I$89)+SUMIF(C$10:C$89,P15,E$10:E$89) -> 47 | V15: =T15-U15 -> 11 | W15: =MATCH(P15,X$10:X$33,0)-O15 -> 6 | X15: Hidden team | Z15: Bocce McBocceface
B16: Game 4 | C16: ='Game Schedule'!D11 -> Katie Young and the Misfits | D16: 13 | E16: =D17 -> 11 | G16: ='Game Schedule'!H11 -> Mission Imbocceball | H16: 12 | I16: =H17 -> 6 | K16: ='Game Schedule'!L11 -> The Andrea Boccelli's | L16: 0 | M16: =L17 -> 12 | O16: =O15+1 -> 7 | P16: Balls & Whistles | Q16: =COUNTIFS(K$10:K$89,P16,L$10:L$89,">=0")+COUNTIFS(G$10:G$89,P16,H$10:H$89,">=0")+COUNTIFS(C$10:C$89,P16,D$10:D$89,">=0")+COUNTIFS(K$10:K$89,P16,L$10:L$89,"W")+COUNTIFS(G$10:G$89,P16,H$10:H$89,"W")+COUNTIFS(C$10:C$89,P16,D$10:D$89,"W")+COUNTIFS(K$10:K$89,P16,L$10:L$89,"L")+COUNTIFS(G$10:G$89,P16,H$10:H$89,"L")+COUNTIFS(C$10:C$89,P16,D$10:D$89,"L") -> 5 | R16: {=SUM(IF(P16=K$10:K$89,IF(L$10:L$89="W",1,IF(L$10:L$89>M$10:M$89,1,0)),0))+SUM(IF(P16=G$10:G$89,IF(H$10:H$89="W",1,IF(H$10:H$89>I$10:I$89,1,0)),0))+SUM(IF(P16=C$10:C$89,IF(D$10:D$89="W",1,IF(D$10:D$89>E$10:E$89,1,0)),0))} -> 3 | S16: {=SUM(IF(P16=K$10:K$89,IF(L$10:L$89="L",1,IF(L$10:L$89<M$10:M$89,1,0)),0))+SUM(IF(P16=G$10:G$89,IF(H$10:H$89="L",1,IF(H$10:H$89<I$10:I$89,1,0)),0))+SUM(IF(P16=C$10:C$89,IF(D$10:D$89="L",1,IF(D$10:D$89<E$10:E$89,1,0)),0))} -> 2 | T16: =SUMIF(K$10:K$89,P16,L$10:L$89)+SUMIF(G$10:G$89,P16,H$10:H$89)+SUMIF(C$10:C$89,P16,D$10:D$89) -> 47 | U16: =SUMIF(K$10:K$89,P16,M$10:M$89)+SUMIF(G$10:G$89,P16,I$10:I$89)+SUMIF(C$10:C$89,P16,E$10:E$89) -> 36 | V16: =T16-U16 -> 11 | W16: =MATCH(P16,X$10:X$33,0)-O16 -> 3 | X16: Ballzinga | Z16: Boccestar Galactica | AB16: 5
C17: ='Game Schedule'!D12 -> Innovation Expos | D17: 11 | E17: =D16 -> 13 | G17: ='Game Schedule'!H12 -> Easy Sweet and Sour Balls | H17: 6 | I17: =H16 -> 12 | K17: ='Game Schedule'!L12 -> Hidden team | L17: 12 | M17: =L16 -> 0 | O17: =O16+1 -> 8 | P17: Hidden team | Q17: =COUNTIFS(K$10:K$89,P17,L$10:L$89,">=0")+COUNTIFS(G$10:G$89,P17,H$10:H$89,">=0")+COUNTIFS(C$10:C$89,P17,D$10:D$89,">=0")+COUNTIFS(K$10:K$89,P17,L$10:L$89,"W")+COUNTIFS(G$10:G$89,P17,H$10:H$89,"W")+COUNTIFS(C$10:C$89,P17,D$10:D$89,"W")+COUNTIFS(K$10:K$89,P17,L$10:L$89,"L")+COUNTIFS(G$10:G$89,P17,H$10:H$89,"L")+COUNTIFS(C$10:C$89,P17,D$10:D$89,"L") -> 4 | R17: {=SUM(IF(P17=K$10:K$89,IF(L$10:L$89="W",1,IF(L$10:L$89>M$10:M$89,1,0)),0))+SUM(IF(P17=G$10:G$89,IF(H$10:H$89="W",1,IF(H$10:H$89>I$10:I$89,1,0)),0))+SUM(IF(P17=C$10:C$89,IF(D$10:D$89="W",1,IF(D$10:D$89>E$10:E$89,1,0)),0))} -> 3 | S17: {=SUM(IF(P17=K$10:K$89,IF(L$10:L$89="L",1,IF(L$10:L$89<M$10:M$89,1,0)),0))+SUM(IF(P17=G$10:G$89,IF(H$10:H$89="L",1,IF(H$10:H$89<I$10:I$89,1,0)),0))+SUM(IF(P17=C$10:C$89,IF(D$10:D$89="L",1,IF(D$10:D$89<E$10:E$89,1,0)),0))} -> 1 | T17: =SUMIF(K$10:K$89,P17,L$10:L$89)+SUMIF(G$10:G$89,P17,H$10:H$89)+SUMIF(C$10:C$89,P17,D$10:D$89) -> 40 | U17: =SUMIF(K$10:K$89,P17,M$10:M$89)+SUMIF(G$10:G$89,P17,I$10:I$89)+SUMIF(C$10:C$89,P17,E$10:E$89) -> 34 | V17: =T17-U17 -> 6 | W17: =MATCH(P17,X$10:X$33,0)-O17 -> -2 | X17: Bocce City Rollers | Z17: CO2
O18: =O17+1 -> 9 | P18: Bocce City Rollers | Q18: =COUNTIFS(K$10:K$89,P18,L$10:L$89,">=0")+COUNTIFS(G$10:G$89,P18,H$10:H$89,">=0")+COUNTIFS(C$10:C$89,P18,D$10:D$89,">=0")+COUNTIFS(K$10:K$89,P18,L$10:L$89,"W")+COUNTIFS(G$10:G$89,P18,H$10:H$89,"W")+COUNTIFS(C$10:C$89,P18,D$10:D$89,"W")+COUNTIFS(K$10:K$89,P18,L$10:L$89,"L")+COUNTIFS(G$10:G$89,P18,H$10:H$89,"L")+COUNTIFS(C$10:C$89,P18,D$10:D$89,"L") -> 5 | R18: {=SUM(IF(P18=K$10:K$89,IF(L$10:L$89="W",1,IF(L$10:L$89>M$10:M$89,1,0)),0))+SUM(IF(P18=G$10:G$89,IF(H$10:H$89="W",1,IF(H$10:H$89>I$10:I$89,1,0)),0))+SUM(IF(P18=C$10:C$89,IF(D$10:D$89="W",1,IF(D$10:D$89>E$10:E$89,1,0)),0))} -> 3 | S18: {=SUM(IF(P18=K$10:K$89,IF(L$10:L$89="L",1,IF(L$10:L$89<M$10:M$89,1,0)),0))+SUM(IF(P18=G$10:G$89,IF(H$10:H$89="L",1,IF(H$10:H$89<I$10:I$89,1,0)),0))+SUM(IF(P18=C$10:C$89,IF(D$10:D$89="L",1,IF(D$10:D$89<E$10:E$89,1,0)),0))} -> 2 | T18: =SUMIF(K$10:K$89,P18,L$10:L$89)+SUMIF(G$10:G$89,P18,H$10:H$89)+SUMIF(C$10:C$89,P18,D$10:D$89) -> 49 | U18: =SUMIF(K$10:K$89,P18,M$10:M$89)+SUMIF(G$10:G$89,P18,I$10:I$89)+SUMIF(C$10:C$89,P18,E$10:E$89) -> 47 | V18: =T18-U18 -> 2 | W18: =MATCH(P18,X$10:X$33,0)-O18 -> -1 | X18: Make Bocce Great Again | Z18: Cubs
B19: ='Game Schedule'!C14 -> Round 2 Week of June 5-9 | E19: =E9+1 -> 24 | O19: =O18+1 -> 10 | P19: Ballzinga | Q19: =COUNTIFS(K$10:K$89,P19,L$10:L$89,">=0")+COUNTIFS(G$10:G$89,P19,H$10:H$89,">=0")+COUNTIFS(C$10:C$89,P19,D$10:D$89,">=0")+COUNTIFS(K$10:K$89,P19,L$10:L$89,"W")+COUNTIFS(G$10:G$89,P19,H$10:H$89,"W")+COUNTIFS(C$10:C$89,P19,D$10:D$89,"W")+COUNTIFS(K$10:K$89,P19,L$10:L$89,"L")+COUNTIFS(G$10:G$89,P19,H$10:H$89,"L")+COUNTIFS(C$10:C$89,P19,D$10:D$89,"L") -> 5 | R19: {=SUM(IF(P19=K$10:K$89,IF(L$10:L$89="W",1,IF(L$10:L$89>M$10:M$89,1,0)),0))+SUM(IF(P19=G$10:G$89,IF(H$10:H$89="W",1,IF(H$10:H$89>I$10:I$89,1,0)),0))+SUM(IF(P19=C$10:C$89,IF(D$10:D$89="W",1,IF(D$10:D$89>E$10:E$89,1,0)),0))} -> 3 | S19: {=SUM(IF(P19=K$10:K$89,IF(L$10:L$89="L",1,IF(L$10:L$89<M$10:M$89,1,0)),0))+SUM(IF(P19=G$10:G$89,IF(H$10:H$89="L",1,IF(H$10:H$89<I$10:I$89,1,0)),0))+SUM(IF(P19=C$10:C$89,IF(D$10:D$89="L",1,IF(D$10:D$89<E$10:E$89,1,0)),0))} -> 2 | T19: =SUMIF(K$10:K$89,P19,L$10:L$89)+SUMIF(G$10:G$89,P19,H$10:H$89)+SUMIF(C$10:C$89,P19,D$10:D$89) -> 56 | U19: =SUMIF(K$10:K$89,P19,M$10:M$89)+SUMIF(G$10:G$89,P19,I$10:I$89)+SUMIF(C$10:C$89,P19,E$10:E$89) -> 55 | V19: =T19-U19 -> 1 | W19: =MATCH(P19,X$10:X$33,0)-O19 -> -3 | X19: Balls & Whistles | Z19: Denboccerous Kickyourassae
B20: Game 1 | C20: ='Game Schedule'!D15 -> Ball under Review | D20: 12 | E20: =D21 -> 10 | G20: ='Game Schedule'!H15 -> Balls & Whistles | H20: 4 | I20: =H21 -> 12 | K20: ='Game Schedule'!L15 -> Ball Hogs | L20: 13 | M20: =L21 -> 5 | O20: =O19+1 -> 11 | P20: Parks and Wreck | Q20: =COUNTIFS(K$10:K$89,P20,L$10:L$89,">=0")+COUNTIFS(G$10:G$89,P20,H$10:H$89,">=0")+COUNTIFS(C$10:C$89,P20,D$10:D$89,">=0")+COUNTIFS(K$10:K$89,P20,L$10:L$89,"W")+COUNTIFS(G$10:G$89,P20,H$10:H$89,"W")+COUNTIFS(C$10:C$89,P20,D$10:D$89,"W")+COUNTIFS(K$10:K$89,P20,L$10:L$89,"L")+COUNTIFS(G$10:G$89,P20,H$10:H$89,"L")+COUNTIFS(C$10:C$89,P20,D$10:D$89,"L") -> 5 | R20: {=SUM(IF(P20=K$10:K$89,IF(L$10:L$89="W",1,IF(L$10:L$89>M$10:M$89,1,0)),0))+SUM(IF(P20=G$10:G$89,IF(H$10:H$89="W",1,IF(H$10:H$89>I$10:I$89,1,0)),0))+SUM(IF(P20=C$10:C$89,IF(D$10:D$89="W",1,IF(D$10:D$89>E$10:E$89,1,0)),0))} -> 3 | S20: {=SUM(IF(P20=K$10:K$89,IF(L$10:L$89="L",1,IF(L$10:L$89<M$10:M$89,1,0)),0))+SUM(IF(P20=G$10:G$89,IF(H$10:H$89="L",1,IF(H$10:H$89<I$10:I$89,1,0)),0))+SUM(IF(P20=C$10:C$89,IF(D$10:D$89="L",1,IF(D$10:D$89<E$10:E$89,1,0)),0))} -> 2 | T20: =SUMIF(K$10:K$89,P20,L$10:L$89)+SUMIF(G$10:G$89,P20,H$10:H$89)+SUMIF(C$10:C$89,P20,D$10:D$89) -> 42 | U20: =SUMIF(K$10:K$89,P20,M$10:M$89)+SUMIF(G$10:G$89,P20,I$10:I$89)+SUMIF(C$10:C$89,P20,E$10:E$89) -> 42 | V20: =T20-U20 -> 0 | W20: =MATCH(P20,X$10:X$33,0)-O20 -> 2 | X20: Ball Hogs | Z20: LateTeam
C21: ='Game Schedule'!D16 -> Katie Young and the Misfits | D21: 10 | E21: =D20 -> 12 | G21: ='Game Schedule'!H16 -> Mission Imbocceball | H21: 12 | I21: =H20 -> 4 | K21: ='Game Schedule'!L16 -> The Andrea Boccelli's | L21: 5 | M21: =L20 -> 13 | O21: =O20+1 -> 12 | P21: Make Bocce Great Again | Q21: =COUNTIFS(K$10:K$89,P21,L$10:L$89,">=0")+COUNTIFS(G$10:G$89,P21,H$10:H$89,">=0")+COUNTIFS(C$10:C$89,P21,D$10:D$89,">=0")+COUNTIFS(K$10:K$89,P21,L$10:L$89,"W")+COUNTIFS(G$10:G$89,P21,H$10:H$89,"W")+COUNTIFS(C$10:C$89,P21,D$10:D$89,"W")+COUNTIFS(K$10:K$89,P21,L$10:L$89,"L")+COUNTIFS(G$10:G$89,P21,H$10:H$89,"L")+COUNTIFS(C$10:C$89,P21,D$10:D$89,"L") -> 4 | R21: {=SUM(IF(P21=K$10:K$89,IF(L$10:L$89="W",1,IF(L$10:L$89>M$10:M$89,1,0)),0))+SUM(IF(P21=G$10:G$89,IF(H$10:H$89="W",1,IF(H$10:H$89>I$10:I$89,1,0)),0))+SUM(IF(P21=C$10:C$89,IF(D$10:D$89="W",1,IF(D$10:D$89>E$10:E$89,1,0)),0))} -> 2 | S21: {=SUM(IF(P21=K$10:K$89,IF(L$10:L$89="L",1,IF(L$10:L$89<M$10:M$89,1,0)),0))+SUM(IF(P21=G$10:G$89,IF(H$10:H$89="L",1,IF(H$10:H$89<I$10:I$89,1,0)),0))+SUM(IF(P21=C$10:C$89,IF(D$10:D$89="L",1,IF(D$10:D$89<E$10:E$89,1,0)),0))} -> 2 | T21: =SUMIF(K$10:K$89,P21,L$10:L$89)+SUMIF(G$10:G$89,P21,H$10:H$89)+SUMIF(C$10:C$89,P21,D$10:D$89) -> 41 | U21: =SUMIF(K$10:K$89,P21,M$10:M$89)+SUMIF(G$10:G$89,P21,I$10:I$89)+SUMIF(C$10:C$89,P21,E$10:E$89) -> 28 | V21: =T21-U21 -> 13 | W21: =MATCH(P21,X$10:X$33,0)-O21 -> -3 | X21: The Carbon Bakers | Z21: Mad Bocce Fury Balls
B22: Game 2 | C22: ='Game Schedule'!D17 -> Innovation Expos | D22: 12 | E22: =D23 -> 0 | G22: ='Game Schedule'!H17 -> Easy Sweet and Sour Balls | H22: 12 | I22: =H23 -> 5 | K22: ='Game Schedule'!L17 -> Hidden team | L22: 2 | M22: =L23 -> 12 | O22: =O21+1 -> 13 | P22: Ball Hogs | Q22: =COUNTIFS(K$10:K$89,P22,L$10:L$89,">=0")+COUNTIFS(G$10:G$89,P22,H$10:H$89,">=0")+COUNTIFS(C$10:C$89,P22,D$10:D$89,">=0")+COUNTIFS(K$10:K$89,P22,L$10:L$89,"W")+COUNTIFS(G$10:G$89,P22,H$10:H$89,"W")+COUNTIFS(C$10:C$89,P22,D$10:D$89,"W")+COUNTIFS(K$10:K$89,P22,L$10:L$89,"L")+COUNTIFS(G$10:G$89,P22,H$10:H$89,"L")+COUNTIFS(C$10:C$89,P22,D$10:D$89,"L") -> 4 | R22: {=SUM(IF(P22=K$10:K$89,IF(L$10:L$89="W",1,IF(L$10:L$89>M$10:M$89,1,0)),0))+SUM(IF(P22=G$10:G$89,IF(H$10:H$89="W",1,IF(H$10:H$89>I$10:I$89,1,0)),0))+SUM(IF(P22=C$10:C$89,IF(D$10:D$89="W",1,IF(D$10:D$89>E$10:E$89,1,0)),0))} -> 2 | S22: {=SUM(IF(P22=K$10:K$89,IF(L$10:L$89="L",1,IF(L$10:L$89<M$10:M$89,1,0)),0))+SUM(IF(P22=G$10:G$89,IF(H$10:H$89="L",1,IF(H$10:H$89<I$10:I$89,1,0)),0))+SUM(IF(P22=C$10:C$89,IF(D$10:D$89="L",1,IF(D$10:D$89<E$10:E$89,1,0)),0))} -> 2 | T22: =SUMIF(K$10:K$89,P22,L$10:L$89)+SUMIF(G$10:G$89,P22,H$10:H$89)+SUMIF(C$10:C$89,P22,D$10:D$89) -> 38 | U22: =SUMIF(K$10:K$89,P22,M$10:M$89)+SUMIF(G$10:G$89,P22,I$10:I$89)+SUMIF(C$10:C$89,P22,E$10:E$89) -> 34 | V22: =T22-U22 -> 4 | W22: =MATCH(P22,X$10:X$33,0)-O22 -> -2 | X22: Parks and Wreck | Z22: Mission Imbocceball
C23: ='Game Schedule'!D18 -> Bocce in the Middle | D23: 0 | E23: =D22 -> 12 | G23: ='Game Schedule'!H18 -> Community Derangement | H23: 5 | I23: =H22 -> 12 | K23: ='Game Schedule'!L18 -> Denboccerous kickyourassae | L23: 12 | M23: =L22 -> 2 | O23: =O22+1 -> 14 | P23: Katie Young and the Misfits | Q23: =COUNTIFS(K$10:K$89,P23,L$10:L$89,">=0")+COUNTIFS(G$10:G$89,P23,H$10:H$89,">=0")+COUNTIFS(C$10:C$89,P23,D$10:D$89,">=0")+COUNTIFS(K$10:K$89,P23,L$10:L$89,"W")+COUNTIFS(G$10:G$89,P23,H$10:H$89,"W")+COUNTIFS(C$10:C$89,P23,D$10:D$89,"W")+COUNTIFS(K$10:K$89,P23,L$10:L$89,"L")+COUNTIFS(G$10:G$89,P23,H$10:H$89,"L")+COUNTIFS(C$10:C$89,P23,D$10:D$89,"L") -> 5 | R23: {=SUM(IF(P23=K$10:K$89,IF(L$10:L$89="W",1,IF(L$10:L$89>M$10:M$89,1,0)),0))+SUM(IF(P23=G$10:G$89,IF(H$10:H$89="W",1,IF(H$10:H$89>I$10:I$89,1,0)),0))+SUM(IF(P23=C$10:C$89,IF(D$10:D$89="W",1,IF(D$10:D$89>E$10:E$89,1,0)),0))} -> 2 | S23: {=SUM(IF(P23=K$10:K$89,IF(L$10:L$89="L",1,IF(L$10:L$89<M$10:M$89,1,0)),0))+SUM(IF(P23=G$10:G$89,IF(H$10:H$89="L",1,IF(H$10:H$89<I$10:I$89,1,0)),0))+SUM(IF(P23=C$10:C$89,IF(D$10:D$89="L",1,IF(D$10:D$89<E$10:E$89,1,0)),0))} -> 3 | T23: =SUMIF(K$10:K$89,P23,L$10:L$89)+SUMIF(G$10:G$89,P23,H$10:H$89)+SUMIF(C$10:C$89,P23,D$10:D$89) -> 51 | U23: =SUMIF(K$10:K$89,P23,M$10:M$89)+SUMIF(G$10:G$89,P23,I$10:I$89)+SUMIF(C$10:C$89,P23,E$10:E$89) -> 49 | V23: =T23-U23 -> 2 | W23: =MATCH(P23,X$10:X$33,0)-O23 -> 4 | X23: 99 Problems But a Bocce Ain't One | Z23: N2O
B24: Game 3 | C24: ='Game Schedule'!D19 -> Saucy Balls | D24: 2 | E24: =D25 -> 12 | G24: ='Game Schedule'!H19 -> Parks and Wreck | H24: 11 | I24: =H25 -> 13 | K24: ='Game Schedule'!L19 -> Make Bocce Great Again | L24: 12 | M24: =L25 -> 0 | O24: =O23+1 -> 15 | P24: Alphabet Soup | Q24: =COUNTIFS(K$10:K$89,P24,L$10:L$89,">=0")+COUNTIFS(G$10:G$89,P24,H$10:H$89,">=0")+COUNTIFS(C$10:C$89,P24,D$10:D$89,">=0")+COUNTIFS(K$10:K$89,P24,L$10:L$89,"W")+COUNTIFS(G$10:G$89,P24,H$10:H$89,"W")+COUNTIFS(C$10:C$89,P24,D$10:D$89,"W")+COUNTIFS(K$10:K$89,P24,L$10:L$89,"L")+COUNTIFS(G$10:G$89,P24,H$10:H$89,"L")+COUNTIFS(C$10:C$89,P24,D$10:D$89,"L") -> 5 | R24: {=SUM(IF(P24=K$10:K$89,IF(L$10:L$89="W",1,IF(L$10:L$89>M$10:M$89,1,0)),0))+SUM(IF(P24=G$10:G$89,IF(H$10:H$89="W",1,IF(H$10:H$89>I$10:I$89,1,0)),0))+SUM(IF(P24=C$10:C$89,IF(D$10:D$89="W",1,IF(D$10:D$89>E$10:E$89,1,0)),0))} -> 2 | S24: {=SUM(IF(P24=K$10:K$89,IF(L$10:L$89="L",1,IF(L$10:L$89<M$10:M$89,1,0)),0))+SUM(IF(P24=G$10:G$89,IF(H$10:H$89="L",1,IF(H$10:H$89<I$10:I$89,1,0)),0))+SUM(IF(P24=C$10:C$89,IF(D$10:D$89="L",1,IF(D$10:D$89<E$10:E$89,1,0)),0))} -> 3 | T24: =SUMIF(K$10:K$89,P24,L$10:L$89)+SUMIF(G$10:G$89,P24,H$10:H$89)+SUMIF(C$10:C$89,P24,D$10:D$89) -> 50 | U24: =SUMIF(K$10:K$89,P24,M$10:M$89)+SUMIF(G$10:G$89,P24,I$10:I$89)+SUMIF(C$10:C$89,P24,E$10:E$89) -> 58 | V24: =T24-U24 -> -8 | W24: =MATCH(P24,X$10:X$33,0)-O24 -> 4 | X24: Easy Sweet and Sour Balls | Z24: Saucy Balls | AB24: 2
C25: ='Game Schedule'!D20 -> B.O.C.C.E. | D25: 12 | E25: =D24 -> 2 | G25: ='Game Schedule'!H20 -> Ballzinga | H25: 13 | I25: =H24 -> 11 | K25: ='Game Schedule'!L20 -> Bocce City Rollers | L25: 0 | M25: =L24 -> 12 | O25: =O24+1 -> 16 | P25: Almost Lethal | Q25: =COUNTIFS(K$10:K$89,P25,L$10:L$89,">=0")+COUNTIFS(G$10:G$89,P25,H$10:H$89,">=0")+COUNTIFS(C$10:C$89,P25,D$10:D$89,">=0")+COUNTIFS(K$10:K$89,P25,L$10:L$89,"W")+COUNTIFS(G$10:G$89,P25,H$10:H$89,"W")+COUNTIFS(C$10:C$89,P25,D$10:D$89,"W")+COUNTIFS(K$10:K$89,P25,L$10:L$89,"L")+COUNTIFS(G$10:G$89,P25,H$10:H$89,"L")+COUNTIFS(C$10:C$89,P25,D$10:D$89,"L") -> 5 | R25: {=SUM(IF(P25=K$10:K$89,IF(L$10:L$89="W",1,IF(L$10:L$89>M$10:M$89,1,0)),0))+SUM(IF(P25=G$10:G$89,IF(H$10:H$89="W",1,IF(H$10:H$89>I$10:I$89,1,0)),0))+SUM(IF(P25=C$10:C$89,IF(D$10:D$89="W",1,IF(D$10:D$89>E$10:E$89,1,0)),0))} -> 2 | S25: {=SUM(IF(P25=K$10:K$89,IF(L$10:L$89="L",1,IF(L$10:L$89<M$10:M$89,1,0)),0))+SUM(IF(P25=G$10:G$89,IF(H$10:H$89="L",1,IF(H$10:H$89<I$10:I$89,1,0)),0))+SUM(IF(P25=C$10:C$89,IF(D$10:D$89="L",1,IF(D$10:D$89<E$10:E$89,1,0)),0))} -> 3 | T25: =SUMIF(K$10:K$89,P25,L$10:L$89)+SUMIF(G$10:G$89,P25,H$10:H$89)+SUMIF(C$10:C$89,P25,D$10:D$89) -> 43 | U25: =SUMIF(K$10:K$89,P25,M$10:M$89)+SUMIF(G$10:G$89,P25,I$10:I$89)+SUMIF(C$10:C$89,P25,E$10:E$89) -> 58 | V25: =T25-U25 -> -15 | W25: =MATCH(P25,X$10:X$33,0)-O25 -> 6 | X25: Community Derangement | Z25: Transboundary Deboccery
B26: Game 4 | C26: ='Game Schedule'!D21 -> Bocce Chachi's | D26: 12 | E26: =D27 -> 7 | G26: ='Game Schedule'!H21 -> The Carbon Bakers | H26: 10 | I26: =H27 -> 12 | K26: ='Game Schedule'!L21 -> Mad Bocce Fury Balls | L26: 6 | M26: =L27 -> 12 | O26: =O25+1 -> 17 | P26: 99 Problems But a Bocce Ain't One | Q26: =COUNTIFS(K$10:K$89,P26,L$10:L$89,">=0")+COUNTIFS(G$10:G$89,P26,H$10:H$89,">=0")+COUNTIFS(C$10:C$89,P26,D$10:D$89,">=0")+COUNTIFS(K$10:K$89,P26,L$10:L$89,"W")+COUNTIFS(G$10:G$89,P26,H$10:H$89,"W")+COUNTIFS(C$10:C$89,P26,D$10:D$89,"W")+COUNTIFS(K$10:K$89,P26,L$10:L$89,"L")+COUNTIFS(G$10:G$89,P26,H$10:H$89,"L")+COUNTIFS(C$10:C$89,P26,D$10:D$89,"L") -> 5 | R26: {=SUM(IF(P26=K$10:K$89,IF(L$10:L$89="W",1,IF(L$10:L$89>M$10:M$89,1,0)),0))+SUM(IF(P26=G$10:G$89,IF(H$10:H$89="W",1,IF(H$10:H$89>I$10:I$89,1,0)),0))+SUM(IF(P26=C$10:C$89,IF(D$10:D$89="W",1,IF(D$10:D$89>E$10:E$89,1,0)),0))} -> 2 | S26: {=SUM(IF(P26=K$10:K$89,IF(L$10:L$89="L",1,IF(L$10:L$89<M$10:M$89,1,0)),0))+SUM(IF(P26=G$10:G$89,IF(H$10:H$89="L",1,IF(H$10:H$89<I$10:I$89,1,0)),0))+SUM(IF(P26=C$10:C$89,IF(D$10:D$89="L",1,IF(D$10:D$89<E$10:E$89,1,0)),0))} -> 3 | T26: =SUMIF(K$10:K$89,P26,L$10:L$89)+SUMIF(G$10:G$89,P26,H$10:H$89)+SUMIF(C$10:C$89,P26,D$10:D$89) -> 37 | U26: =SUMIF(K$10:K$89,P26,M$10:M$89)+SUMIF(G$10:G$89,P26,I$10:I$89)+SUMIF(C$10:C$89,P26,E$10:E$89) -> 52 | V26: =T26-U26 -> -15 | W26: =MATCH(P26,X$10:X$33,0)-O26 -> -3 | X26: B.O.C.C.E.
C27: ='Game Schedule'!D22 -> Alphabet Soup | D27: 7 | E27: =D26 -> 12 | G27: ='Game Schedule'!H22 -> Almost Lethal | H27: 12 | I27: =H26 -> 10 | K27: ='Game Schedule'!L22 -> 99 Problems But a Bocce Ain't One | L27: 12 | M27: =L26 -> 6 | O27: =O26+1 -> 18 | P27: B.O.C.C.E. | Q27: =COUNTIFS(K$10:K$89,P27,L$10:L$89,">=0")+COUNTIFS(G$10:G$89,P27,H$10:H$89,">=0")+COUNTIFS(C$10:C$89,P27,D$10:D$89,">=0")+COUNTIFS(K$10:K$89,P27,L$10:L$89,"W")+COUNTIFS(G$10:G$89,P27,H$10:H$89,"W")+COUNTIFS(C$10:C$89,P27,D$10:D$89,"W")+COUNTIFS(K$10:K$89,P27,L$10:L$89,"L")+COUNTIFS(G$10:G$89,P27,H$10:H$89,"L")+COUNTIFS(C$10:C$89,P27,D$10:D$89,"L") -> 5 | R27: {=SUM(IF(P27=K$10:K$89,IF(L$10:L$89="W",1,IF(L$10:L$89>M$10:M$89,1,0)),0))+SUM(IF(P27=G$10:G$89,IF(H$10:H$89="W",1,IF(H$10:H$89>I$10:I$89,1,0)),0))+SUM(IF(P27=C$10:C$89,IF(D$10:D$89="W",1,IF(D$10:D$89>E$10:E$89,1,0)),0))} -> 1 | S27: {=SUM(IF(P27=K$10:K$89,IF(L$10:L$89="L",1,IF(L$10:L$89<M$10:M$89,1,0)),0))+SUM(IF(P27=G$10:G$89,IF(H$10:H$89="L",1,IF(H$10:H$89<I$10:I$89,1,0)),0))+SUM(IF(P27=C$10:C$89,IF(D$10:D$89="L",1,IF(D$10:D$89<E$10:E$89,1,0)),0))} -> 4 | T27: =SUMIF(K$10:K$89,P27,L$10:L$89)+SUMIF(G$10:G$89,P27,H$10:H$89)+SUMIF(C$10:C$89,P27,D$10:D$89) -> 40 | U27: =SUMIF(K$10:K$89,P27,M$10:M$89)+SUMIF(G$10:G$89,P27,I$10:I$89)+SUMIF(C$10:C$89,P27,E$10:E$89) -> 51 | V27: =T27-U27 -> -11 | W27: =MATCH(P27,X$10:X$33,0)-O27 -> -1 | X27: Katie Young and the Misfits
O28: =O27+1 -> 19 | P28: Easy Sweet and Sour Balls | Q28: =COUNTIFS(K$10:K$89,P28,L$10:L$89,">=0")+COUNTIFS(G$10:G$89,P28,H$10:H$89,">=0")+COUNTIFS(C$10:C$89,P28,D$10:D$89,">=0")+COUNTIFS(K$10:K$89,P28,L$10:L$89,"W")+COUNTIFS(G$10:G$89,P28,H$10:H$89,"W")+COUNTIFS(C$10:C$89,P28,D$10:D$89,"W")+COUNTIFS(K$10:K$89,P28,L$10:L$89,"L")+COUNTIFS(G$10:G$89,P28,H$10:H$89,"L")+COUNTIFS(C$10:C$89,P28,D$10:D$89,"L") -> 5 | R28: {=SUM(IF(P28=K$10:K$89,IF(L$10:L$89="W",1,IF(L$10:L$89>M$10:M$89,1,0)),0))+SUM(IF(P28=G$10:G$89,IF(H$10:H$89="W",1,IF(H$10:H$89>I$10:I$89,1,0)),0))+SUM(IF(P28=C$10:C$89,IF(D$10:D$89="W",1,IF(D$10:D$89>E$10:E$89,1,0)),0))} -> 1 | S28: {=SUM(IF(P28=K$10:K$89,IF(L$10:L$89="L",1,IF(L$10:L$89<M$10:M$89,1,0)),0))+SUM(IF(P28=G$10:G$89,IF(H$10:H$89="L",1,IF(H$10:H$89<I$10:I$89,1,0)),0))+SUM(IF(P28=C$10:C$89,IF(D$10:D$89="L",1,IF(D$10:D$89<E$10:E$89,1,0)),0))} -> 4 | T28: =SUMIF(K$10:K$89,P28,L$10:L$89)+SUMIF(G$10:G$89,P28,H$10:H$89)+SUMIF(C$10:C$89,P28,D$10:D$89) -> 42 | U28: =SUMIF(K$10:K$89,P28,M$10:M$89)+SUMIF(G$10:G$89,P28,I$10:I$89)+SUMIF(C$10:C$89,P28,E$10:E$89) -> 54 | V28: =T28-U28 -> -12 | W28: =MATCH(P28,X$10:X$33,0)-O28 -> -4 | X28: Alphabet Soup
B29: ='Game Schedule'!C24 -> Round 3 Week of June 12-16 | E29: =E19+1 -> 25 | O29: =O28+1 -> 20 | P29: The Andrea Boccelli's | Q29: =COUNTIFS(K$10:K$89,P29,L$10:L$89,">=0")+COUNTIFS(G$10:G$89,P29,H$10:H$89,">=0")+COUNTIFS(C$10:C$89,P29,D$10:D$89,">=0")+COUNTIFS(K$10:K$89,P29,L$10:L$89,"W")+COUNTIFS(G$10:G$89,P29,H$10:H$89,"W")+COUNTIFS(C$10:C$89,P29,D$10:D$89,"W")+COUNTIFS(K$10:K$89,P29,L$10:L$89,"L")+COUNTIFS(G$10:G$89,P29,H$10:H$89,"L")+COUNTIFS(C$10:C$89,P29,D$10:D$89,"L") -> 5 | R29: {=SUM(IF(P29=K$10:K$89,IF(L$10:L$89="W",1,IF(L$10:L$89>M$10:M$89,1,0)),0))+SUM(IF(P29=G$10:G$89,IF(H$10:H$89="W",1,IF(H$10:H$89>I$10:I$89,1,0)),0))+SUM(IF(P29=C$10:C$89,IF(D$10:D$89="W",1,IF(D$10:D$89>E$10:E$89,1,0)),0))} -> 1 | S29: {=SUM(IF(P29=K$10:K$89,IF(L$10:L$89="L",1,IF(L$10:L$89<M$10:M$89,1,0)),0))+SUM(IF(P29=G$10:G$89,IF(H$10:H$89="L",1,IF(H$10:H$89<I$10:I$89,1,0)),0))+SUM(IF(P29=C$10:C$89,IF(D$10:D$89="L",1,IF(D$10:D$89<E$10:E$89,1,0)),0))} -> 4 | T29: =SUMIF(K$10:K$89,P29,L$10:L$89)+SUMIF(G$10:G$89,P29,H$10:H$89)+SUMIF(C$10:C$89,P29,D$10:D$89) -> 29 | U29: =SUMIF(K$10:K$89,P29,M$10:M$89)+SUMIF(G$10:G$89,P29,I$10:I$89)+SUMIF(C$10:C$89,P29,E$10:E$89) -> 51 | V29: =T29-U29 -> -22 | W29: =MATCH(P29,X$10:X$33,0)-O29 -> 0 | X29: The Andrea Boccelli's
B30: Game 1 | C30: ='Game Schedule'!D25 -> B.O.C.C.E. | D30: 2 | E30: =D31 -> 12 | G30: ='Game Schedule'!H25 -> Ballzinga | H30: 13 | I30: =H31 -> 11 | K30: ='Game Schedule'!L25 -> Bocce City Rollers | L30: 11 | M30: =L31 -> 13 | O30: =O29+1 -> 21 | P30: Community Derangement | Q30: =COUNTIFS(K$10:K$89,P30,L$10:L$89,">=0")+COUNTIFS(G$10:G$89,P30,H$10:H$89,">=0")+COUNTIFS(C$10:C$89,P30,D$10:D$89,">=0")+COUNTIFS(K$10:K$89,P30,L$10:L$89,"W")+COUNTIFS(G$10:G$89,P30,H$10:H$89,"W")+COUNTIFS(C$10:C$89,P30,D$10:D$89,"W")+COUNTIFS(K$10:K$89,P30,L$10:L$89,"L")+COUNTIFS(G$10:G$89,P30,H$10:H$89,"L")+COUNTIFS(C$10:C$89,P30,D$10:D$89,"L") -> 5 | R30: {=SUM(IF(P30=K$10:K$89,IF(L$10:L$89="W",1,IF(L$10:L$89>M$10:M$89,1,0)),0))+SUM(IF(P30=G$10:G$89,IF(H$10:H$89="W",1,IF(H$10:H$89>I$10:I$89,1,0)),0))+SUM(IF(P30=C$10:C$89,IF(D$10:D$89="W",1,IF(D$10:D$89>E$10:E$89,1,0)),0))} -> 1 | S30: {=SUM(IF(P30=K$10:K$89,IF(L$10:L$89="L",1,IF(L$10:L$89<M$10:M$89,1,0)),0))+SUM(IF(P30=G$10:G$89,IF(H$10:H$89="L",1,IF(H$10:H$89<I$10:I$89,1,0)),0))+SUM(IF(P30=C$10:C$89,IF(D$10:D$89="L",1,IF(D$10:D$89<E$10:E$89,1,0)),0))} -> 4 | T30: =SUMIF(K$10:K$89,P30,L$10:L$89)+SUMIF(G$10:G$89,P30,H$10:H$89)+SUMIF(C$10:C$89,P30,D$10:D$89) -> 26 | U30: =SUMIF(K$10:K$89,P30,M$10:M$89)+SUMIF(G$10:G$89,P30,I$10:I$89)+SUMIF(C$10:C$89,P30,E$10:E$89) -> 48 | V30: =T30-U30 -> -22 | W30: =MATCH(P30,X$10:X$33,0)-O30 -> -5 | X30: Bocce in the Middle
C31: ='Game Schedule'!D26 -> Innovation Expos | D31: 12 | E31: =D30 -> 2 | G31: ='Game Schedule'!H26 -> Easy Sweet and Sour Balls | H31: 11 | I31: =H30 -> 13 | K31: ='Game Schedule'!L26 -> Hidden team | L31: 13 | M31: =L30 -> 11 | O31: =O30+1 -> 22 | P31: Bocce in the Middle | Q31: =COUNTIFS(K$10:K$89,P31,L$10:L$89,">=0")+COUNTIFS(G$10:G$89,P31,H$10:H$89,">=0")+COUNTIFS(C$10:C$89,P31,D$10:D$89,">=0")+COUNTIFS(K$10:K$89,P31,L$10:L$89,"W")+COUNTIFS(G$10:G$89,P31,H$10:H$89,"W")+COUNTIFS(C$10:C$89,P31,D$10:D$89,"W")+COUNTIFS(K$10:K$89,P31,L$10:L$89,"L")+COUNTIFS(G$10:G$89,P31,H$10:H$89,"L")+COUNTIFS(C$10:C$89,P31,D$10:D$89,"L") -> 5 | R31: {=SUM(IF(P31=K$10:K$89,IF(L$10:L$89="W",1,IF(L$10:L$89>M$10:M$89,1,0)),0))+SUM(IF(P31=G$10:G$89,IF(H$10:H$89="W",1,IF(H$10:H$89>I$10:I$89,1,0)),0))+SUM(IF(P31=C$10:C$89,IF(D$10:D$89="W",1,IF(D$10:D$89>E$10:E$89,1,0)),0))} -> 1 | S31: {=SUM(IF(P31=K$10:K$89,IF(L$10:L$89="L",1,IF(L$10:L$89<M$10:M$89,1,0)),0))+SUM(IF(P31=G$10:G$89,IF(H$10:H$89="L",1,IF(H$10:H$89<I$10:I$89,1,0)),0))+SUM(IF(P31=C$10:C$89,IF(D$10:D$89="L",1,IF(D$10:D$89<E$10:E$89,1,0)),0))} -> 4 | T31: =SUMIF(K$10:K$89,P31,L$10:L$89)+SUMIF(G$10:G$89,P31,H$10:H$89)+SUMIF(C$10:C$89,P31,D$10:D$89) -> 31 | U31: =SUMIF(K$10:K$89,P31,M$10:M$89)+SUMIF(G$10:G$89,P31,I$10:I$89)+SUMIF(C$10:C$89,P31,E$10:E$89) -> 60 | V31: =T31-U31 -> -29 | W31: =MATCH(P31,X$10:X$33,0)-O31 -> -1 | X31: Almost Lethal
B32: Game 2 | C32: ='Game Schedule'!D27 -> Bocce in the Middle | D32: 9 | E32: =D33 -> 12 | G32: ='Game Schedule'!H27 -> Community Derangement | H32: 2 | I32: =H33 -> 12 | K32: ='Game Schedule'!L27 -> Denboccerous kickyourassae | L32: 12 | M32: =L33 -> 6 | O32: =O31+1 -> 23 | P32: Saucy Balls | Q32: =COUNTIFS(K$10:K$89,P32,L$10:L$89,">=0")+COUNTIFS(G$10:G$89,P32,H$10:H$89,">=0")+COUNTIFS(C$10:C$89,P32,D$10:D$89,">=0")+COUNTIFS(K$10:K$89,P32,L$10:L$89,"W")+COUNTIFS(G$10:G$89,P32,H$10:H$89,"W")+COUNTIFS(C$10:C$89,P32,D$10:D$89,"W")+COUNTIFS(K$10:K$89,P32,L$10:L$89,"L")+COUNTIFS(G$10:G$89,P32,H$10:H$89,"L")+COUNTIFS(C$10:C$89,P32,D$10:D$89,"L") -> 5 | R32: {=SUM(IF(P32=K$10:K$89,IF(L$10:L$89="W",1,IF(L$10:L$89>M$10:M$89,1,0)),0))+SUM(IF(P32=G$10:G$89,IF(H$10:H$89="W",1,IF(H$10:H$89>I$10:I$89,1,0)),0))+SUM(IF(P32=C$10:C$89,IF(D$10:D$89="W",1,IF(D$10:D$89>E$10:E$89,1,0)),0))} -> 1 | S32: {=SUM(IF(P32=K$10:K$89,IF(L$10:L$89="L",1,IF(L$10:L$89<M$10:M$89,1,0)),0))+SUM(IF(P32=G$10:G$89,IF(H$10:H$89="L",1,IF(H$10:H$89<I$10:I$89,1,0)),0))+SUM(IF(P32=C$10:C$89,IF(D$10:D$89="L",1,IF(D$10:D$89<E$10:E$89,1,0)),0))} -> 4 | T32: =SUMIF(K$10:K$89,P32,L$10:L$89)+SUMIF(G$10:G$89,P32,H$10:H$89)+SUMIF(C$10:C$89,P32,D$10:D$89) -> 26 | U32: =SUMIF(K$10:K$89,P32,M$10:M$89)+SUMIF(G$10:G$89,P32,I$10:I$89)+SUMIF(C$10:C$89,P32,E$10:E$89) -> 57 | V32: =T32-U32 -> -31 | W32: =MATCH(P32,X$10:X$33,0)-O32 -> 0 | X32: Saucy Balls
C33: ='Game Schedule'!D28 -> Ball under Review | D33: 12 | E33: =D32 -> 9 | G33: ='Game Schedule'!H28 -> Balls & Whistles | H33: 12 | I33: =H32 -> 2 | K33: ='Game Schedule'!L28 -> Ball Hogs | L33: 6 | M33: =L32 -> 12 | O33: =O32+1 -> 24 | P33: Mad Bocce Fury Balls | Q33: =COUNTIFS(K$10:K$89,P33,L$10:L$89,">=0")+COUNTIFS(G$10:G$89,P33,H$10:H$89,">=0")+COUNTIFS(C$10:C$89,P33,D$10:D$89,">=0")+COUNTIFS(K$10:K$89,P33,L$10:L$89,"W")+COUNTIFS(G$10:G$89,P33,H$10:H$89,"W")+COUNTIFS(C$10:C$89,P33,D$10:D$89,"W")+COUNTIFS(K$10:K$89,P33,L$10:L$89,"L")+COUNTIFS(G$10:G$89,P33,H$10:H$89,"L")+COUNTIFS(C$10:C$89,P33,D$10:D$89,"L") -> 4 | R33: {=SUM(IF(P33=K$10:K$89,IF(L$10:L$89="W",1,IF(L$10:L$89>M$10:M$89,1,0)),0))+SUM(IF(P33=G$10:G$89,IF(H$10:H$89="W",1,IF(H$10:H$89>I$10:I$89,1,0)),0))+SUM(IF(P33=C$10:C$89,IF(D$10:D$89="W",1,IF(D$10:D$89>E$10:E$89,1,0)),0))} -> 0 | S33: {=SUM(IF(P33=K$10:K$89,IF(L$10:L$89="L",1,IF(L$10:L$89<M$10:M$89,1,0)),0))+SUM(IF(P33=G$10:G$89,IF(H$10:H$89="L",1,IF(H$10:H$89<I$10:I$89,1,0)),0))+SUM(IF(P33=C$10:C$89,IF(D$10:D$89="L",1,IF(D$10:D$89<E$10:E$89,1,0)),0))} -> 4 | T33: =SUMIF(K$10:K$89,P33,L$10:L$89)+SUMIF(G$10:G$89,P33,H$10:H$89)+SUMIF(C$10:C$89,P33,D$10:D$89) -> 21 | U33: =SUMIF(K$10:K$89,P33,M$10:M$89)+SUMIF(G$10:G$89,P33,I$10:I$89)+SUMIF(C$10:C$89,P33,E$10:E$89) -> 48 | V33: =T33-U33 -> -27 | W33: =MATCH(P33,X$10:X$33,0)-O33 -> 0 | X33: Mad Bocce Fury Balls
B34: Game 3 | C34: ='Game Schedule'!D29 -> Katie Young and the Misfits | D34: 12 | E34: =D35 -> 14 | G34: ='Game Schedule'!H29 -> Mission Imbocceball | H34: 12 | I34: =H35 -> 5 | K34: ='Game Schedule'!L29 -> The Andrea Boccelli's | L34: 8 | M34: =L35 -> 12
C35: ='Game Schedule'!D30 -> Alphabet Soup | D35: 14 | E35: =D34 -> 12 | G35: ='Game Schedule'!H30 -> Almost Lethal | H35: 5 | I35: =H34 -> 12 | K35: ='Game Schedule'!L30 -> 99 Problems But a Bocce Ain't One | L35: 12 | M35: =L34 -> 8
B36: Game 4 | C36: ='Game Schedule'!D31 -> Saucy Balls | D36: 6 | E36: =D37 -> 12 | G36: ='Game Schedule'!H31 -> Parks and Wreck | H36: 7 | I36: =H37 -> 12 | K36: ='Game Schedule'!L31 -> Make Bocce Great Again | L36: 12 | M36: =L37 -> 3 | P36: Check point | Q36: =SUM(Q10:Q33) -> 116 | R36: =SUM(R10:R33) -> 58 | S36: =SUM(S10:S33) -> 58 | T36: =SUM(T10:T33) -> 1060 | U36: =SUM(U10:U33) -> 1060 | V36: =SUM(V10:V33) -> 0
C37: ='Game Schedule'!D32 -> Bocce Chachi's | D37: 12 | E37: =D36 -> 6 | G37: ='Game Schedule'!H32 -> The Carbon Bakers | H37: 12 | I37: =H36 -> 7 | K37: ='Game Schedule'!L32 -> Mad Bocce Fury Balls | L37: 3 | M37: =L36 -> 12
B39: ='Game Schedule'!C34 -> Round 4 Week of June 19-June 23 | E39: =E29+1 -> 26
B40: Game 1 | C40: ='Game Schedule'!D35 -> Alphabet Soup | D40: 11 | E40: =D41 -> 13 | G40: ='Game Schedule'!H35 -> Almost Lethal | H40: 12 | I40: =H41 -> 14 | K40: ='Game Schedule'!L35 -> 99 Problems But a Bocce Ain't One | L40: 3 | M40: =L41 -> 12
C41: ='Game Schedule'!D36 -> Bocce in the Middle | D41: 13 | E41: =D40 -> 11 | G41: ='Game Schedule'!H36 -> Community Derangement | H41: 14 | I41: =H40 -> 12 | K41: ='Game Schedule'!L36 -> Denboccerous kickyourassae | L41: 12 | M41: =L40 -> 3
B42: Game 2 | C42: ='Game Schedule'!D37 -> Ball under Review | D42: 13 | E42: =D43 -> 11 | G42: ='Game Schedule'!H37 -> Balls & Whistles | H42: 12 | I42: =H43 -> 8 | K42: ='Game Schedule'!L37 -> Ball Hogs | L42: 7 | M42: =L43 -> 12
C43: ='Game Schedule'!D38 -> B.O.C.C.E. | D43: 11 | E43: =D42 -> 13 | G43: ='Game Schedule'!H38 -> Ballzinga | H43: 8 | I43: =H42 -> 12 | K43: ='Game Schedule'!L38 -> Bocce City Rollers | L43: 12 | M43: =L42 -> 7
B44: Game 3 | C44: ='Game Schedule'!D39 -> Innovation Expos | D44: 12 | E44: =D45 -> 5 | G44: ='Game Schedule'!H39 -> Easy Sweet and Sour Balls | H44: 10 | I44: =H45 -> 12 | K44: ='Game Schedule'!L39 -> Hidden team | L44: 13 | M44: =L45 -> 11
C45: ='Game Schedule'!D40 -> Saucy Balls | D45: 5 | E45: =D44 -> 12 | G45: ='Game Schedule'!H40 -> Parks and Wreck | H45: 12 | I45: =H44 -> 10 | K45: ='Game Schedule'!L40 -> Make Bocce Great Again | L45: 11 | M45: =L44 -> 13
B46: Game 4 | C46: ='Game Schedule'!D41 -> Bocce Chachi's | D46: 12 | E46: =D47 -> 3 | G46: ='Game Schedule'!H41 -> The Carbon Bakers | H46: 15 | I46: =H47 -> 13 | K46: ='Game Schedule'!L41 -> Mad Bocce Fury Balls | L46: 2 | M46: =L47 -> 12
C47: ='Game Schedule'!D42 -> Katie Young and the Misfits | D47: 3 | E47: =D46 -> 12 | G47: ='Game Schedule'!H42 -> Mission Imbocceball | H47: 13 | I47: =H46 -> 15 | K47: ='Game Schedule'!L42 -> The Andrea Boccelli's | L47: 12 | M47: =L46 -> 2
B49: ='Game Schedule'!C44 -> Free 1 Week of June 26-30 - CATCH-UP MISSED GAMES | E49: =E39+1 -> 27
B50: Game 1 | E50: =D51 -> 0 | I50: =H51 -> 0 | M50: =L51 -> 0
E51: =D50 -> 0 | I51: =H50 -> 0 | M51: =L50 -> 0
B52: Game 2 | E52: =D53 -> 0 | I52: =H53 -> 0 | M52: =L53 -> 0
E53: =D52 -> 0 | I53: =H52 -> 0 | M53: =L52 -> 0
B54: Game 3 | E54: =D55 -> 0 | I54: =H55 -> 0 | M54: =L55 -> 0
E55: =D54 -> 0 | I55: =H54 -> 0 | M55: =L54 -> 0
B56: Game 4 | E56: =D57 -> 0 | I56: =H57 -> 0 | M56: =L57 -> 0
E57: =D56 -> 0 | I57: =H56 -> 0 | M57: =L56 -> 0
B59: ='Game Schedule'!C54 -> Round 5 Week of July 4-7 | E59: =E49+1 -> 28
B60: Game 1 | C60: ='Game Schedule'!D55 -> B.O.C.C.E. | D60: 9 | E60: =D61 -> 12 | G60: ='Game Schedule'!H55 -> Ballzinga | H60: 10 | I60: =H61 -> 12 | K60: ='Game Schedule'!L55 -> Bocce City Rollers | L60: 14 | M60: =L61 -> 5
C61: ='Game Schedule'!D56 -> Alphabet Soup | D61: 12 | E61: =D60 -> 9 | G61: ='Game Schedule'!H56 -> Almost Lethal | H61: 12 | I61: =H60 -> 10 | K61: ='Game Schedule'!L56 -> 99 Problems But a Bocce Ain't One | L61: 5 | M61: =L60 -> 14
B62: Game 2 | C62: ='Game Schedule'!D57 -> Bocce in the Middle | D62: 0 | E62: =D63 -> 13 | G62: ='Game Schedule'!H57 -> Community Derangement | H62: 5 | I62: =H63 -> 12 | K62: ='Game Schedule'!L57 -> Denboccerous kickyourassae | L62: 12 | M62: =L63 -> 4
C63: ='Game Schedule'!D58 -> Katie Young and the Misfits | D63: 13 | E63: =D62 -> 0 | G63: ='Game Schedule'!H58 -> Mission Imbocceball | H63: 12 | I63: =H62 -> 5 | K63: ='Game Schedule'!L58 -> The Andrea Boccelli's | L63: 4 | M63: =L62 -> 12
B64: Game 3 | C64: ='Game Schedule'!D59 -> Innovation Expos | D64: 12 | E64: =D65 -> 4 | G64: ='Game Schedule'!H59 -> Easy Sweet and Sour Balls | H64: 3 | I64: =H65 -> 12 | K64: ='Game Schedule'!L59 -> Hidden team | M64: =L65 -> 0
C65: ='Game Schedule'!D60 -> Bocce Chachi's | D65: 4 | E65: =D64 -> 12 | G65: ='Game Schedule'!H60 -> The Carbon Bakers | H65: 12 | I65: =H64 -> 3 | K65: ='Game Schedule'!L60 -> Mad Bocce Fury Balls | M65: =L64 -> 0
B66: Game 4 | C66: ='Game Schedule'!D61 -> Saucy Balls | D66: 1 | E66: =D67 -> 12 | G66: ='Game Schedule'!H61 -> Parks and Wreck | H66: 12 | I66: =H67 -> 7 | K66: ='Game Schedule'!L61 -> Make Bocce Great Again | M66: =L67 -> 0
C67: ='Game Schedule'!D62 -> Ball under Review | D67: 12 | E67: =D66 -> 1 | G67: ='Game Schedule'!H62 -> Balls & Whistles | H67: 7 | I67: =H66 -> 12 | K67: ='Game Schedule'!L62 -> Ball Hogs | M67: =L66 -> 0
B69: ='Game Schedule'!C64 -> Round 6 Week of July 10-14 | E69: =E59+1 -> 29
B70: Game 1 | C70: ='Game Schedule'!D65 -> Alphabet Soup | E70: =D71 -> 0 | G70: ='Game Schedule'!H65 -> Almost Lethal | I70: =H71 -> 0 | K70: ='Game Schedule'!L65 -> 99 Problems But a Bocce Ain't One | M70: =L71 -> 0
C71: ='Game Schedule'!D66 -> Saucy Balls | E71: =D70 -> 0 | G71: ='Game Schedule'!H66 -> Parks and Wreck | I71: =H70 -> 0 | K71: ='Game Schedule'!L66 -> Make Bocce Great Again | M71: =L70 -> 0
B72: Game 2 | C72: ='Game Schedule'!D67 -> Ball under Review | E72: =D73 -> 0 | G72: ='Game Schedule'!H67 -> Balls & Whistles | I72: =H73 -> 0 | K72: ='Game Schedule'!L67 -> Ball Hogs | M72: =L73 -> 0
C73: ='Game Schedule'!D68 -> Innovation Expos | E73: =D72 -> 0 | G73: ='Game Schedule'!H68 -> Easy Sweet and Sour Balls | I73: =H72 -> 0 | K73: ='Game Schedule'!L68 -> Hidden team | M73: =L72 -> 0
B74: Game 3 | C74: ='Game Schedule'!D69 -> Bocce in the Middle | E74: =D75 -> 0 | G74: ='Game Schedule'!H69 -> Community Derangement | I74: =H75 -> 0 | K74: ='Game Schedule'!L69 -> Denboccerous kickyourassae | M74: =L75 -> 0
C75: ='Game Schedule'!D70 -> Bocce Chachi's | E75: =D74 -> 0 | G75: ='Game Schedule'!H70 -> The Carbon Bakers | I75: =H74 -> 0 | K75: ='Game Schedule'!L70 -> Mad Bocce Fury Balls | M75: =L74 -> 0
B76: Game 4 | C76: ='Game Schedule'!D71 -> Katie Young and the Misfits | E76: =D77 -> 0 | G76: ='Game Schedule'!H71 -> Mission Imbocceball | I76: =H77 -> 0 | K76: ='Game Schedule'!L71 -> The Andrea Boccelli's | M76: =L77 -> 0
C77: ='Game Schedule'!D72 -> B.O.C.C.E. | E77: =D76 -> 0 | G77: ='Game Schedule'!H72 -> Ballzinga | I77: =H76 -> 0 | K77: ='Game Schedule'!L72 -> Bocce City Rollers | M77: =L76 -> 0
B79: ='Game Schedule'!C74 -> Round 7 Week of July 17-21 | E79: =E69+1 -> 30
B80: Game 1 | C80: ='Game Schedule'!D75 -> B.O.C.C.E. | E80: =D81 -> 0 | G80: ='Game Schedule'!H75 -> Ballzinga | I80: =H81 -> 0 | K80: ='Game Schedule'!L75 -> Bocce City Rollers | M80: =L81 -> 0
C81: ='Game Schedule'!D76 -> Bocce in the Middle | E81: =D80 -> 0 | G81: ='Game Schedule'!H76 -> Community Derangement | I81: =H80 -> 0 | K81: ='Game Schedule'!L76 -> Denboccerous kickyourassae | M81: =L80 -> 0
B82: Game 2 | C82: ='Game Schedule'!D77 -> Innovation Expos | E82: =D83 -> 0 | G82: ='Game Schedule'!H77 -> Easy Sweet and Sour Balls | I82: =H83 -> 0 | K82: ='Game Schedule'!L77 -> Hidden team | M82: =L83 -> 0
C83: ='Game Schedule'!D78 -> Alphabet Soup | E83: =D82 -> 0 | G83: ='Game Schedule'!H78 -> Almost Lethal | I83: =H82 -> 0 | K83: ='Game Schedule'!L78 -> 99 Problems But a Bocce Ain't One | M83: =L82 -> 0
B84: Game 3 | C84: ='Game Schedule'!D79 -> Saucy Balls | E84: =D85 -> 0 | G84: ='Game Schedule'!H79 -> Parks and Wreck | I84: =H85 -> 0 | K84: ='Game Schedule'!L79 -> Make Bocce Great Again | M84: =L85 -> 0
C85: ='Game Schedule'!D80 -> Katie Young and the Misfits | E85: =D84 -> 0 | G85: ='Game Schedule'!H80 -> Mission Imbocceball | I85: =H84 -> 0 | K85: ='Game Schedule'!L80 -> The Andrea Boccelli's | M85: =L84 -> 0
B86: Game 4 | C86: ='Game Schedule'!D81 -> Bocce Chachi's | E86: =D87 -> 0 | G86: ='Game Schedule'!H81 -> The Carbon Bakers | I86: =H87 -> 0 | K86: ='Game Schedule'!L81 -> Mad Bocce Fury Balls | M86: =L87 -> 0
C87: ='Game Schedule'!D82 -> Ball under Review | E87: =D86 -> 0 | G87: ='Game Schedule'!H82 -> Balls & Whistles | I87: =H86 -> 0 | K87: ='Game Schedule'!L82 -> Ball Hogs | M87: =L86 -> 0
B89: ='Game Schedule'!C84 -> Free 2 Week of July 24-28 - CATCH-UP MISSED GAMES | E89: =E79+1 -> 31
B90: Game 1 | E90: =D91 -> 0 | I90: =H91 -> 0
E91: =D90 -> 0 | I91: =H90 -> 0
B92: Game 2 | E92: =D93 -> 0 | I92: =H93 -> 0
E93: =D92 -> 0 | I93: =H92 -> 0
B94: Game 3 | E94: =D95 -> 0 | I94: =H95 -> 0
E95: =D94 -> 0 | I95: =H94 -> 0
B96: Game 4 | E96: =D97 -> 0 | I96: =H97 -> 0
E97: =D96 -> 0 | I97: =H96 -> 0
B100: ='Game Schedule'!C95 -> Week of July 31 - August 4 NO GAMES - end of regular season
B102: ='Game Schedule'!C97 -> August: PLAYOFFS - see Play-off schedule

Sheet Game Schedule
D1: TUESDAY | H1: WEDNESDAY | L1: THURSDAY
D3: 5 | H3: 25 | L3: 45
C4: Round 1 Week of May 29-June 2 | Q4: group | R4: Games
B5: 1 | C5: Game 1 | D5: =O5 -> Alphabet Soup | H5: =S5 -> Almost Lethal | L5: =W5 -> 99 Problems But a Bocce Ain't One | N5: 1 | O5: ='All Teams Info'!A31 -> Alphabet Soup | Q5: 1 | R5: =COUNTIF(D$5:L$93,O5) -> 7 | S5: Almost Lethal | W5: 99 Problems But a Bocce Ain't One
B6: 2 | D6: =O6 -> Ball under Review | H6: =S6 -> Balls & Whistles | L6: =W6 -> Ball Hogs | N6: 2 | O6: ='All Teams Info'!A59 -> Ball under Review | Q6: 1 | R6: =COUNTIF(D$5:L$93,O6) -> 7 | S6: Balls & Whistles | W6: Ball Hogs
B7: 3 | C7: Game 2 | D7: =O7 -> B.O.C.C.E. | H7: =S7 -> Ballzinga | L7: =W7 -> Bocce City Rollers | N7: 3 | O7: B.O.C.C.E. | Q7: 1 | R7: =COUNTIF(D$5:L$93,O7) -> 7 | S7: Ballzinga | W7: Bocce City Rollers
B8: 4 | D8: =O12 -> Bocce Chachi's | H8: =S12 -> The Carbon Bakers | L8: =W12 -> Mad Bocce Fury Balls | N8: 4 | O8: ='All Teams Info'!A129 -> Bocce in the Middle | Q8: 1 | R8: =COUNTIF(D$5:L$93,O8) -> 7 | S8: Community Derangement | W8: Denboccerous kickyourassae
B9: 5 | C9: Game 3 | D9: =O8 -> Bocce in the Middle | H9: =S8 -> Community Derangement | L9: =W8 -> Denboccerous kickyourassae | N9: 5 | O9: ='All Teams Info'!A199 -> Innovation Expos | Q9: 1 | R9: =COUNTIF(D$5:L$93,O9) -> 7 | S9: Easy Sweet and Sour Balls | W9: Hidden team
B10: 6 | D10: =O11 -> Saucy Balls | H10: =S11 -> Parks and Wreck | L10: =W11 -> Make Bocce Great Again | N10: 6 | O10: ='All Teams Info'!A213 -> Katie Young and the Misfits | Q10: 1 | R10: =COUNTIF(D$5:L$93,O10) -> 7 | S10: Mission Imbocceball | W10: The Andrea Boccelli's
B11: 6 | C11: Game 4 | D11: =O10 -> Katie Young and the Misfits | H11: =S10 -> Mission Imbocceball | L11: =W10 -> The Andrea Boccelli's | N11: 7 | O11: ='All Teams Info'!A255 -> Saucy Balls | Q11: 1 | R11: =COUNTIF(D$5:L$93,O11) -> 7 | S11: Parks and Wreck | W11: Make Bocce Great Again
B12: 5 | D12: =O9 -> Innovation Expos | H12: =S9 -> Easy Sweet and Sour Balls | L12: =W9 -> Hidden team | N12: 8 | O12: ='All Teams Info'!A327 -> Bocce Chachi's | Q12: 1 | R12: =COUNTIF(D$5:L$93,O12) -> 7 | S12: The Carbon Bakers | W12: Mad Bocce Fury Balls
N13: 9 | O13: ='All Teams Info'!A17 -> Almost Lethal | Q13: 2 | R13: =COUNTIF(D$5:L$93,O13) -> 7
C14: Round 2 Week of June 5-9 | N14: 10 | O14: ='All Teams Info'!A73 -> Balls & Whistles | Q14: 2 | R14: =COUNTIF(D$5:L$93,O14) -> 7
B15: 1 | C15: Game 1 | D15: =O6 -> Ball under Review | H15: =S6 -> Balls & Whistles | L15: =W6 -> Ball Hogs | N15: 11 | O15: ='All Teams Info'!A87 -> Ballzinga | Q15: 2 | R15: =COUNTIF(D$5:L$93,O15) -> 7
B16: 4 | D16: =O10 -> Katie Young and the Misfits | H16: =S10 -> Mission Imbocceball | L16: =W10 -> The Andrea Boccelli's | N16: 12 | O16: ='All Teams Info'!A143 -> Community Derangement | Q16: 2 | R16: =COUNTIF(D$5:L$93,O16) -> 7
B17: 3 | C17: Game 2 | D17: =O9 -> Innovation Expos | H17: =S9 -> Easy Sweet and Sour Balls | L17: =W9 -> Hidden team | N17: 13 | O17: ='All Teams Info'!A171 -> Easy Sweet and Sour Balls | Q17: 2 | R17: =COUNTIF(D$5:L$93,O17) -> 7
B18: 6 | D18: =O8 -> Bocce in the Middle | H18: =S8 -> Community Derangement | L18: =W8 -> Denboccerous kickyourassae | N18: 14 | O18: ='All Teams Info'!A227 -> Mission Imbocceball | Q18: 2 | R18: =COUNTIF(D$5:L$93,O18) -> 7
B19: 5 | C19: Game 3 | D19: =O11 -> Saucy Balls | H19: =S11 -> Parks and Wreck | L19: =W11 -> Make Bocce Great Again | N19: 15 | O19: ='All Teams Info'!A241 -> Parks and Wreck | Q19: 2 | R19: =COUNTIF(D$5:L$93,O19) -> 7
B20: 2 | D20: =O7 -> B.O.C.C.E. | H20: =S7 -> Ballzinga | L20: =W7 -> Bocce City Rollers | N20: 16 | O20: ='All Teams Info'!A283 -> The Carbon Bakers | Q20: 2 | R20: =COUNTIF(D$5:L$93,O20) -> 7
B21: 6 | C21: Game 4 | D21: =O12 -> Bocce Chachi's | H21: =S12 -> The Carbon Bakers | L21: =W12 -> Mad Bocce Fury Balls | N21: 17 | O21: ='All Teams Info'!A3 -> 99 Problems But a Bocce Ain't One | Q21: 3 | R21: =COUNTIF(D$5:L$93,O21) -> 7
B22: 3 | D22: =O5 -> Alphabet Soup | H22: =S5 -> Almost Lethal | L22: =W5 -> 99 Problems But a Bocce Ain't One | N22: 18 | O22: ='All Teams Info'!A45 -> Ball Hogs | Q22: 3 | R22: =COUNTIF(D$5:L$93,O22) -> 7
N23: 19 | O23: ='All Teams Info'!A115 -> Bocce City Rollers | Q23: 3 | R23: =COUNTIF(D$5:L$93,O23) -> 7
C24: Round 3 Week of June 12-16 | N24: 20 | O24: ='All Teams Info'!A157 -> Denboccerous kickyourassae | Q24: 3 | R24: =COUNTIF(D$5:L$93,O24) -> 7
B25: 1 | C25: Game 1 | D25: =O7 -> B.O.C.C.E. | H25: =S7 -> Ballzinga | L25: =W7 -> Bocce City Rollers | N25: 21 | O25: ='All Teams Info'!A185 -> Hidden team | Q25: 3 | R25: =COUNTIF(D$5:L$93,O25) -> 7
B26: 6 | D26: =O9 -> Innovation Expos | H26: =S9 -> Easy Sweet and Sour Balls | L26: =W9 -> Hidden team | N26: 22 | O26: ='All Teams Info'!A269 -> The Andrea Boccelli's | Q26: 3 | R26: =COUNTIF(D$5:L$93,O26) -> 7
B27: 3 | C27: Game 2 | D27: =O8 -> Bocce in the Middle | H27: =S8 -> Community Derangement | L27: =W8 -> Denboccerous kickyourassae | N27: 23 | O27: ='All Teams Info'!A298 -> Make Bocce Great Again | Q27: 3 | R27: =COUNTIF(D$5:L$93,O27) -> 7
B28: 2 | D28: =O6 -> Ball under Review | H28: =S6 -> Balls & Whistles | L28: =W6 -> Ball Hogs | N28: 24 | O28: ='All Teams Info'!A312 -> Mad Bocce Fury Balls | Q28: 3 | R28: =COUNTIF(D$5:L$93,O28) -> 7
B29: 5 | C29: Game 3 | D29: =O10 -> Katie Young and the Misfits | H29: =S10 -> Mission Imbocceball | L29: =W10 -> The Andrea Boccelli's
B30: 4 | D30: =O5 -> Alphabet Soup | H30: =S5 -> Almost Lethal | L30: =W5 -> 99 Problems But a Bocce Ain't One
B31: 6 | C31: Game 4 | D31: =O11 -> Saucy Balls | H31: =S11 -> Parks and Wreck | L31: =W11 -> Make Bocce Great Again
D32: =O12 -> Bocce Chachi's | H32: =S12 -> The Carbon Bakers | L32: =W12 -> Mad Bocce Fury Balls
C34: Round 4 Week of June 19-June 23
B35: 1 | C35: Game 1 | D35: =O5 -> Alphabet Soup | H35: =S5 -> Almost Lethal | L35: =W5 -> 99 Problems But a Bocce Ain't One
B36: 5 | D36: =O8 -> Bocce in the Middle | H36: =S8 -> Community Derangement | L36: =W8 -> Denboccerous kickyourassae
B37: 6 | C37: Game 2 | D37: =O6 -> Ball under Review | H37: =S6 -> Balls & Whistles | L37: =W6 -> Ball Hogs
B38: 2 | D38: =O7 -> B.O.C.C.E. | H38: =S7 -> Ballzinga | L38: =W7 -> Bocce City Rollers
B39: 3 | C39: Game 3 | D39: =O9 -> Innovation Expos | H39: =S9 -> Easy Sweet and Sour Balls | L39: =W9 -> Hidden team
B40: 4 | D40: =O11 -> Saucy Balls | H40: =S11 -> Parks and Wreck | L40: =W11 -> Make Bocce Great Again
B41: 2 | C41: Game 4 | D41: =O12 -> Bocce Chachi's | H41: =S12 -> The Carbon Bakers | L41: =W12 -> Mad Bocce Fury Balls
B42: 6 | D42: =O10 -> Katie Young and the Misfits | H42: =S10 -> Mission Imbocceball | L42: =W10 -> The Andrea Boccelli's
C44: Free 1 Week of June 26-30 - CATCH-UP MISSED GAMES
C45: Game 1
C47: Game 2
C49: Game 3
C51: Game 4
C54: Round 5 Week of July 4-7
B55: 2 | C55: Game 1 | D55: =O7 -> B.O.C.C.E. | H55: =S7 -> Ballzinga | L55: =W7 -> Bocce City Rollers
B56: 1 | D56: =O5 -> Alphabet Soup | H56: =S5 -> Almost Lethal | L56: =W5 -> 99 Problems But a Bocce Ain't One
B57: 4 | C57: Game 2 | D57: =O8 -> Bocce in the Middle | H57: =S8 -> Community Derangement | L57: =W8 -> Denboccerous kickyourassae
B58: 3 | D58: =O10 -> Katie Young and the Misfits | H58: =S10 -> Mission Imbocceball | L58: =W10 -> The Andrea Boccelli's
B59: 6 | C59: Game 3 | D59: =O9 -> Innovation Expos | H59: =S9 -> Easy Sweet and Sour Balls | L59: =W9 -> Hidden team
B60: 5 | D60: =O12 -> Bocce Chachi's | H60: =S12 -> The Carbon Bakers | L60: =W12 -> Mad Bocce Fury Balls
B61: 5 | C61: Game 4 | D61: =O11 -> Saucy Balls | H61: =S11 -> Parks and Wreck | L61: =W11 -> Make Bocce Great Again
B62: 6 | D62: =O6 -> Ball under Review | H62: =S6 -> Balls & Whistles | L62: =W6 -> Ball Hogs
C64: Round 6 Week of July 10-14
B65: 4 | C65: Game 1 | D65: =O5 -> Alphabet Soup | H65: =S5 -> Almost Lethal | L65: =W5 -> 99 Problems But a Bocce Ain't One
B66: 1 | D66: =O11 -> Saucy Balls | H66: =S11 -> Parks and Wreck | L66: =W11 -> Make Bocce Great Again
B67: 6 | C67: Game 2 | D67: =O6 -> Ball under Review | H67: =S6 -> Balls & Whistles | L67: =W6 -> Ball Hogs
B68: 3 | D68: =O9 -> Innovation Expos | H68: =S9 -> Easy Sweet and Sour Balls | L68: =W9 -> Hidden team
B69: 2 | C69: Game 3 | D69: =O8 -> Bocce in the Middle | H69: =S8 -> Community Derangement | L69: =W8 -> Denboccerous kickyourassae
B70: 5 | D70: =O12 -> Bocce Chachi's | H70: =S12 -> The Carbon Bakers | L70: =W12 -> Mad Bocce Fury Balls
C71: Game 4 | D71: =O10 -> Katie Young and the Misfits | H71: =S10 -> Mission Imbocceball | L71: =W10 -> The Andrea Boccelli's
D72: =O7 -> B.O.C.C.E. | H72: =S7 -> Ballzinga | L72: =W7 -> Bocce City Rollers
C74: Round 7 Week of July 17-21
B75: 6 | C75: Game 1 | D75: =O7 -> B.O.C.C.E. | H75: =S7 -> Ballzinga | L75: =W7 -> Bocce City Rollers
B76: 1 | D76: =O8 -> Bocce in the Middle | H76: =S8 -> Community Derangement | L76: =W8 -> Denboccerous kickyourassae
B77: 2 | C77: Game 2 | D77: =O9 -> Innovation Expos | H77: =S9 -> Easy Sweet and Sour Balls | L77: =W9 -> Hidden team
B78: 3 | D78: =O5 -> Alphabet Soup | H78: =S5 -> Almost Lethal | L78: =W5 -> 99 Problems But a Bocce Ain't One
B79: 4 | C79: Game 3 | D79: =O11 -> Saucy Balls | H79: =S11 -> Parks and Wreck | L79: =W11 -> Make Bocce Great Again
B80: 5 | D80: =O10 -> Katie Young and the Misfits | H80: =S10 -> Mission Imbocceball | L80: =W10 -> The Andrea Boccelli's
C81: Game 4 | D81: =O12 -> Bocce Chachi's | H81: =S12 -> The Carbon Bakers | L81: =W12 -> Mad Bocce Fury Balls
D82: =O6 -> Ball under Review | H82: =S6 -> Balls & Whistles | L82: =W6 -> Ball Hogs
C84: Free 2 Week of July 24-28 - CATCH-UP MISSED GAMES
B85: 3 | C85: Game 1
B86: 1
B87: 5 | C87: Game 2
C89: Game 3
C91: Game 4
C95: Week of July 31 - August 4 NO GAMES - end of regular season
C97: August: PLAYOFFS - see Play-off schedule

Sheet Teams by Day
A1: 2015 ESRD Bocce Ball SmackDown
A3: Tuesday Teams
A4: Team Name | B4: Captain | C4: Got Balls? (Y/N) | D4: Branch (if applicable)
A5: ='All Teams Info'!A49 -> 0
A6: ='All Teams Info'!A64 -> 0
A7: ='All Teams Info'!A94 -> 0
A8: ='All Teams Info'!A169 -> 0
A9: ='All Teams Info'!A199 -> Innovation Expos
A10: ='All Teams Info'!A229 -> 0
A11: Bye
A23: Wednesday Teams
A24: Team Name | B24: Captain | C24: Got Balls? (Y/N) | D24: Branch (if applicable)
A25: ='All Teams Info'!A34 -> 0
A26: ='All Teams Info'!A79 -> 0
A27: ='All Teams Info'!A124 -> 0
A28: ='All Teams Info'!A139 -> 0
A29: ='All Teams Info'!A184 -> Team 14
A30: ='All Teams Info'!A229 -> 0
A31: Bye
A43: Thursday Teams
A44: Team Name | B44: Captain | C44: Got Balls? (Y/N) | D44: Branch (if applicable)
A45: ='All Teams Info'!A4 -> 0
A46: ='All Teams Info'!A19 -> 0
A47: ='All Teams Info'!A109 -> 0
A48: ='All Teams Info'!A154 -> 0
A49: ='All Teams Info'!A214 -> 0
A50: ='All Teams Info'!A229 -> 0
A51: Bye

Sheet All Teams Info
A1: 2017 ESRD Bocce Ball SmackDown
A2: Team 1 | B2: Captain | C2: Emails | D2: Got Balls? (Y/N) | E2: T | F2: W | G2: Th | H2: Branch (if applicable)
A3: 99 Problems But a Bocce Ain't One | B3: Aaron "Jay Zed" Petty | C3: aaron.petty@gov.ab.ca | D3: Yes | E3: Yes | F3: No | G3: Yes | H3: Planning branch
B4: Alternate Captain | C4: Alternate Captain
B5: Matt "Hova" Morgan | C5: matt.morgan@gov.ab.ca
B6: Team Members
B7: Shalini "S-Dot" Kashyap | C7: shalini.kashyap@gov.ab.ca
B8: Shannon White | C8: shannon.r.white@gov.ab.ca
B9: Nigel Ward | C9: nigel.ward@gov.ab.ca
B10: Alex Oiffer | C10: alex.oiffer@gov.ab.ca
B11: Chantelle Leidl | C11: chantelle.leidl@gov.ab.ca
B12: Sarah Depoe | C12: sarah.depoe@gov.ab.ca
A16: Team 2 | B16: Captain | C16: Emails | D16: Got Balls? (Y/N) | E16: T | F16: W | G16: Th | H16: Branch (if applicable)
A17: Almost Lethal | B17: Younes Ahmadi | C17: Younes.ahmadi@gov.ab.ca | D17: No | E17: Yes | F17: Yes | G17: Yes
B18: Alternate Captain | C18: Alternate Captain
B19: Reanna Zhang | C19: Reanna.Zhang@gov.ab.ca
B20: Team Members
B21: Amy Nugent | C21: Amy.Nugent@gov.ab.ca
B22: Eduardo Valle | C22: JoseEduardo.Valle@gov.ab.ca
B23: Steven Ottoni | C23: steven.ottoni@gov.ab.ca
B24: Christeen Finzel | C24: Christeen.Finzel@gov.ab.ca
A30: Team 3 | B30: Captain | C30: Emails | D30: Got Balls? (Y/N) | E30: T | F30: W | G30: Th | H30: Branch (if applicable)
A31: Alphabet Soup | B31: Vitor Dias | C31: Vitor.Dias@gov.ab.ca | D31: No | E31: Yes | F31: No | G31: No
B32: Alternate Captain | C32: Alternate Captain
B33: Joel Costello | C33: Joel.Costello@gov.ab.ca
B34: Team Members
B35: Zohair Nadeem | C35: zohair.nadeem@gov.ab.ca
B36: Stan Kavalinas | C36: Stan.Kavalinas@gov.ab.ca
B37: Martina Krieger | C37: martina.krieger@gov.ab.ca
B38: Michelle Nguyen | C38: michelle.Nguyen@gov.ab.ca
B39: Keith Beraska | C39: keith.beraska@gov.ab.ca
A44: Team 4 | B44: Captain | C44: Emails | D44: Got Balls? (Y/N) | E44: T | F44: W | G44: Th | H44: Branch (if applicable)
A45: Ball Hogs | B45: Crystal Kushneryk | C45: crystal.kushneryk@gov.ab.ca | D45: Yes | E45: Yes | G45: Yes | H45: Air, Biodiversity and Policy Integration Branch (ABPIB)
B46: Alternate Captain | C46: Alternate Captain
B47: Rick Phaneuf | C47: rick.phaneuf@gov.ab.ca
B48: Team Members
B49: Sheila Lucas | C49: sheila.lucas@gov.ab.ca
B50: Amanda Tse | C50: amanda.tse@gov.ab.ca
B51: Robert Magai | C51: robert.magai@gov.ab.ca
B52: Chiadih Chang | C52: chiadih.chang@gov.ab.ca
A58: Team 5 | B58: Captain | C58: Emails | D58: Got Balls? (Y/N) | E58: T | F58: W | G58: Th | H58: Branch (if applicable)
A59: Ball under Review | B59: Angela Burkinshaw | C59: angela.burkinshaw@gov.ab.ca | D59: No | E59: Yes | F59: No | G59: Yes | H59: not applicable
B60: Alternate Captain | C60: Alternate Captain
B61: David Diep | C61: David.diep@gov.ab.ca
B62: Team Members
B63: Tom Davis | C63: tom.davis@gov.ab.ca
B64: Amanda Halawell | C64: Amanda.Halawell@gov.ab.ca
B65: Chris Spytz | C65: Chris.Spytz@gov.ab.ca
B66: Alexandra Miller-Tait | C66: Alexandra.Miller-Tait@gov.ab.ca
B67: John Whitworth | C67: john.whitworth@gov.ab.ca
A72: Team 6 | B72: Captain | C72: Emails | D72: Got Balls? (Y/N) | E72: T | F72: W | G72: Th | H72: Branch (if applicable)
A73: Balls & Whistles | B73: Arshad Ali | C73: arshad.ali@gov.ab.ca | D73: Yes | E73: Yes | F73: Yes | G73: Yes | H73: Water Policy
B74: Alternate Captain | C74: Alternate Captain
B75: Luigi DeMarzo | C75: luigi.Demarzo@gov.ab.ca
B76: Team Members
B77: Richard Casey | C77: richard.casey@gov.ab.ca
B78: Kusumakar Sharma | C78: kusumakar.sharma@gov.ab.ca
B79: Stephanie Simpson | C79: stepanie.sampson@gov.ab.ca
A86: Team 7 | B86: Captain | C86: Emails | D86: Got Balls? (Y/N) | E86: T | F86: W | G86: Th | H86: Branch (if applicable)
A87: Ballzinga | B87: Zahidul Islam | C87: zahidul.islam@gov.ab.ca | D87: Yes | E87: No | F87: Yes | G87: No | H87: Water Policy
B88: Alternate Captain | C88: Alternate Captain
B89: Deepak Muricken | C89: deepak.muricken@gov.ab.ca
B90: Team Members
B91: Susan Satterthwaite | C91: susan.satterthwaite@gov.ab.ca
B92: Mary Metz | C92: mary.metz@gov.ab.ca
B93: Breanna Piercy | C93: breanna.piercy@gov.ab.ca
A100: Team 8 | B100: Captain | C100: Emails | D100: Got Balls? (Y/N) | E100: T | F100: W | G100: Th | H100: Branch (if applicable)
A101: Best Of Climate Change Employees (B.O.C.C.E) | B101: Karla | C101: karla.alsop@gov.ab.ca | D101: No | E101: Yes | F101: Yes | G101: Yes
B102: Alternate Captain | C102: Alternate Captain
B103: Manika | C103: manika.chopra@gov.ab.ca
B104: Team Members
B105: Ward Gegolick | C105: ward.gegolick@gov.ab.ca
B106: Maggie Scott | C106: Maggie.scott@gov.ab.ca
B107: James Chen | C107: james.chen@gov.ab.ca
B108: Amin Bardestani | C108: Amin.J.bardestani@gov.ab.ca
A114: Team 9 | B114: Captain | C114: Emails | D114: Got Balls? (Y/N) | E114: T | F114: W | G114: Th | H114: Branch (if applicable)
A115: Bocce City Rollers | B115: Ewa Przybylo-Komar | C115: ewa.przybylo-komar@gov.ab.ca | D115: No | E115: Yes | F115: Yes | G115: Yes | H115: Enterprise Data & Information Management (informatics)
B116: Alternate Captain | C116: Alternate Captain
B117: Lisa Reinbolt | C117: lisa.reinbolt@gov.ab.ca
B118: Team Members
B119: Chris Rickard | C119: chris.rickard@gov.ab.ca
B120: Paul Zhu | C120: paul.zhu@gov.ab.ca
B121: Marilyn Albert | C121: marilyn.albert@gov.ab.ca
A128: Team 10 | B128: Captain | C128: Emails | D128: Got Balls? (Y/N) | E128: T | F128: W | G128: Th | H128: Branch (if applicable)
A129: Bocce in the Middle | B129: Robyn Kuhn | C129: Robyn.Kuhn@gov.ab.ca | D129: No | E129: Yes | F129: Yes | G129: Yes | H129: IRMS Secretariat
B130: Alternate Captain | C130: Alternate Captain
B131: Simon Wilkins | C131: Simon.Wilkins@gov.ab.ca
B132: Team Members
B133: Nora Abercrombie | C133: Nora.Abercrombie@gov.ab.ca
B134: Sandra Honour | C134: Sandra.Honour@gov.ab.ca
B135: Cheryl Schneider | C135: Cheryl.Schneider@gov.ab.ca
B136: Raymond Stemp | C136: Raymond.Stemp@gov.ab.ca
A142: Team 11 | B142: Captain | C142: Emails | D142: Got Balls? (Y/N) | E142: T | F142: W | G142: Th | H142: Branch (if applicable)
A143: Community Derangement | B143: Brian Free | C143: brian.free@gov.ab.ca | D143: Yes | E143: Yes | F143: Yes | G143: Yes | H143: Community Engagement Branch
B144: Alternate Captain | C144: Alternate Captain
B145: Fran Proulx | C145: fran.proulx@gov.ab.ca
B146: Team Members
B147: Janine Higgins | C147: janine.higgins@gov.ab.ca
B148: Cory Doll | C148: cory.doll@gov.ab.ca
B149: Sharon Willianen | C149: sharon.willianen@gov.ab.ca
...

Sheet Contact
A1: Team 1 | B1: Captain | C1: Emails | D1: TE | E1: Got Balls? (Y/N)
A2: 99 Problems But a Bocce Ain't One | B2: Aaron "Jay Zed" Petty | C2: aaron.petty@gov.ab.ca | D2: 780 422-7246 | E2: Yes
B3: Alternate Captain | C3: Alternate Captain
B4: Matt "Hova" Morgan | C4: matt.morgan@gov.ab.ca | D4: 780 644-5172
B5: Team Members
B6: Shalini "S-Dot" Kashyap | C6: shalini.kashyap@gov.ab.ca
B7: Shannon White | C7: shannon.r.white@gov.ab.ca
B8: Nigel Ward | C8: nigel.ward@gov.ab.ca
B9: Alex Oiffer | C9: alex.oiffer@gov.ab.ca
B10: Chantelle Leidl | C10: chantelle.leidl@gov.ab.ca
B11: Sarah Depoe | C11: sarah.depoe@gov.ab.ca
A13: Team 2 | B13: Captain | C13: Emails | E13: Got Balls? (Y/N)
A14: Almost Lethal | B14: Younes Ahmadi | C14: Younes.ahmadi@gov.ab.ca | D14: 780 644-1094 | E14: No
B15: Alternate Captain | C15: Alternate Captain
B16: Reanna Zhang | C16: Reanna.Zhang@gov.ab.ca
B17: Team Members
B18: Amy Nugent | C18: Amy.Nugent@gov.ab.ca
B19: Eduardo Valle | C19: JoseEduardo.Valle@gov.ab.ca
B20: Steven Ottoni | C20: steven.ottoni@gov.ab.ca
B21: Christeen Finzel | C21: Christeen.Finzel@gov.ab.ca
A23: Team 3 | B23: Captain | C23: Emails | E23: Got Balls? (Y/N)
A24: Alphabet Soup | B24: Vitor Dias | C24: Vitor.Dias@gov.ab.ca | D24: 780 427-3141 | E24: No
B25: Alternate Captain | C25: Alternate Captain
B26: Joel Costello | C26: Joel.Costello@gov.ab.ca
B27: Team Members
B28: Zohair Nadeem | C28: zohair.nadeem@gov.ab.ca
B29: Stan Kavalinas | C29: Stan.Kavalinas@gov.ab.ca
B30: Martina Krieger | C30: martina.krieger@gov.ab.ca
B31: Michelle Nguyen | C31: michelle.Nguyen@gov.ab.ca
B32: Keith Beraska | C32: keith.beraska@gov.ab.ca
A34: Team 4 | B34: Captain | C34: Emails | E34: Got Balls? (Y/N)
A35: Ball Hogs | B35: Crystal Kushneryk | C35: crystal.kushneryk@gov.ab.ca | D35: 780 638-1044 | E35: Yes
B36: Alternate Captain | C36: Alternate Captain
B37: Rick Phaneuf | C37: rick.phaneuf@gov.ab.ca | D37: 780 638-3029
B38: Team Members
B39: Sheila Lucas | C39: sheila.lucas@gov.ab.ca
B40: Amanda Tse | C40: amanda.tse@gov.ab.ca
B41: Robert Magai | C41: robert.magai@gov.ab.ca
B42: Chiadih Chang | C42: chiadih.chang@gov.ab.ca
A44: Team 5 | B44: Captain | C44: Emails | E44: Got Balls? (Y/N)
A45: Ball under Review | B45: Angela Burkinshaw | C45: angela.burkinshaw@gov.ab.ca | D45: 780 427-7758 | E45: No
B46: Alternate Captain | C46: Alternate Captain
B47: David Diep | C47: David.diep@gov.ab.ca | D47: 780 644-5080
B48: Team Members
B49: Tom Davis | C49: tom.davis@gov.ab.ca
B50: Amanda Halawell | C50: Amanda.Halawell@gov.ab.ca
B51: Chris Spytz | C51: Chris.Spytz@gov.ab.ca
B52: Alexandra Miller-Tait | C52: Alexandra.Miller-Tait@gov.ab.ca
A54: Team 6 | B54: Captain | C54: Emails | E54: Got Balls? (Y/N)
A55: Balls & Whistles | B55: Arshad Ali | C55: arshad.ali@gov.ab.ca | D55: 780 644-6984 | E55: Yes
B56: Alternate Captain | C56: Alternate Captain
B57: Luigi DiMarzo | C57: luigi.Dimarzo@gov.ab.ca | D57: 780 422-7872
B58: Team Members
B59: Richard Casey | C59: richard.casey@gov.ab.ca
B60: Kusumakar Sharma | C60: kusumakar.sharma@gov.ab.ca
B61: Stephanie Simpson | C61: stepanie.sampson@gov.ab.ca
A63: Team 7 | B63: Captain | C63: Emails | E63: Got Balls? (Y/N)
A64: Ballzinga | B64: Zahidul Islam | C64: zahidul.islam@gov.ab.ca | D64: 780 643-9044 | E64: Yes
B65: Alternate Captain | C65: Alternate Captain
B66: Deepak Muricken | C66: deepak.muricken@gov.ab.ca | D66: 780 643-0707
B67: Team Members
B68: Susan Satterthwaite | C68: susan.satterthwaite@gov.ab.ca
B69: Mary Metz | C69: mary.metz@gov.ab.ca
B70: Breanna Piercy | C70: breanna.piercy@gov.ab.ca
A72: Team 8 | B72: Captain | C72: Emails | E72: Got Balls? (Y/N)
A73: Best Of Climate Change Employees (B.O.C.C.E) | B73: Karla | C73: karla.alsop@gov.ab.ca | D73: 780 644-6982 | E73: No
B74: Alternate Captain | C74: Alternate Captain
B75: Manika | C75: manika.chopra@gov.ab.ca | D75: 780 644 2130
B76: Team Members
B77: Ward Gegolick | C77: ward.gegolick@gov.ab.ca
B78: Maggie Scott | C78: Maggie.scott@gov.ab.ca
B79: James Chen | C79: james.chen@gov.ab.ca
B80: Amin Bardestani | C80: Amin.J.bardestani@gov.ab.ca
A82: Team 9 | B82: Captain | C82: Emails | E82: Got Balls? (Y/N)
A83: Bocce City Rollers | B83: Ewa Przybylo-Komar | C83: ewa.przybylo-komar@gov.ab.ca | D83: 780 415-9360 | E83: No
B84: Alternate Captain | C84: Alternate Captain
B85: Lisa Reinbolt | C85: lisa.reinbolt@gov.ab.ca | D85: 780 427-5764
B86: Team Members
B87: Chris Rickard | C87: chris.rickard@gov.ab.ca
B88: Paul Zhu | C88: paul.zhu@gov.ab.ca
B89: Marilyn Albert | C89: marilyn.albert@gov.ab.ca
A91: Team 10 | B91: Captain | C91: Emails | E91: Got Balls? (Y/N)
A92: Bocce in the Middle | B92: Robyn Kuhn | C92: Robyn.Kuhn@gov.ab.ca | D92: 780 415-4614 | E92: No
B93: Alternate Captain | C93: Alternate Captain
B94: Simon Wilkins | C94: Simon.Wilkins@gov.ab.ca | D94: 780 415-4611
B95: Team Members
B96: Nora Abercrombie | C96: Nora.Abercrombie@gov.ab.ca
B97: Sandra Honour | C97: Sandra.Honour@gov.ab.ca
B98: Cheryl Schneider | C98: Cheryl.Schneider@gov.ab.ca
B99: Raymond Stemp | C99: Raymond.Stemp@gov.ab.ca
A101: Team 11 | B101: Captain | C101: Emails | E101: Got Balls? (Y/N)
A102: Community Derangement | B102: Brian Free | C102: brian.free@gov.ab.ca | D102: 780 427-7765 | E102: Yes
B103: Alternate Captain | C103: Alternate Captain
B104: Fran Proulx | C104: francine.proulx@gov.ab.ca | D104: 780 427-2306
B105: Team Members
B106: Janine Higgins | C106: janine.higgins@gov.ab.ca
B107: Cory Doll | C107: cory.doll@gov.ab.ca
B108: Sharon Willianen | C108: sharon.willianen@gov.ab.ca
B109: Andrew Schoepf | C109: andrew.schoepf@gov.ab.ca
A111: Team 12 | B111: Captain | C111: Emails | E111: Got Balls? (Y/N)
...

Sheet Sheet1
B2: Captain | C2: Emails | D2: sdf
B3: Aaron "Jay Zed" Petty | C3: aaron.petty@gov.ab.ca | D3: =C3 & "; " -> aaron.petty@gov.ab.ca; | H3: =CONCATENATE(TRANSPOSE(D3:D162)) -> aaron.petty@gov.ab.ca;
B4: Aaron McGill | C4: aaron.mcgill@gov.ab.ca | D4: =C4 & "; " -> aaron.mcgill@gov.ab.ca;
B5: Alex Jamshedji | C5: Alex.Jamshedji@gov.ab.ca | D5: =C5 & "; " -> Alex.Jamshedji@gov.ab.ca; | H5: aaron.petty@gov.ab.ca; aaron.mcgill@gov.ab.ca; Alex.Jamshedji@gov.ab.ca; Alex.MacIsaac@gov.ab.ca; alex.oiffer@gov.ab.ca; Alexandra.Miller-Tait@gov.ab.ca; Amanda.Halawell@gov.ab.ca; Amanda.Stuparyk@gov.ab.ca; amanda.tse@gov.ab.ca; Amin.J.bardestani@gov.ab.ca; Amy.Nugent@gov.ab.ca; Andrea.Orellanaabreu@gov.ab.ca; Andrew.Clayton@gov.ab.ca; andrew.schoepf@gov.ab.ca; angela.burkinshaw@gov.ab.ca; annaliese.behrens@gov.ab.ca; arshad.ali@gov.ab.ca; ashish.malik@gov.ab.ca; aysha.parbatani@gov.ab.ca; beth.nanni@gov.ab.ca; blake.mills@gov.ab.ca; brad.webb@gov.ab.ca; breanna.piercy@gov.ab.ca; brian.free@gov.ab.ca; Brian.Waddell@gov.ab.ca; brooks.horne@gov.ab.ca; bryan.adkins@gov.ab.ca; carol.thurston@gov.ab.ca; caroline.whitehouse@gov.ab.ca; chantelle.leidl@gov.ab.ca; Cheryl.Schneider@gov.ab.ca; Chetinder.Brar@gov.ab.ca; chiadih.chang@gov.ab.ca; chris.rickard@gov.ab.ca; Chris.Spytz@gov.ab.ca; Christeen.Finzel@gov.ab.ca; Christina.HopkinsCrichton@gov.ab.ca; Christine.Dellacosta@gov.ab.ca; Collins.Ugochukwu@gov.ab.ca; cory.doll@gov.ab.ca; crystal.kushneryk@gov.ab.ca; David.diep@gov.ab.ca; David.Lyder@gov.ab.ca; deepak.muricken@gov.ab.ca; devon.belanger@gov.ab.ca; devraj.hansdah@gov.ab.ca; JoseEduardo.Valle@gov.ab.ca; Eleanor.Kneffel@gov.ab.ca; Elizar.Ebrado@gov.ab.ca; erica.samis@gov.ab.ca; Erika.Ensign@gov.ab.ca; ewa.przybylo-komar@gov.ab.ca; Fiona.Slessor@gov.ab.ca; francine.proulx@gov.ab.ca; gabriel.tremblay@gov.ab.ca; Garnett.Schommer@gov.ab.ca; Giovanni.Bruno@gov.ab.ca; gustavo.hernandez@gov.ab.ca; Heather.Carmichael@gov.ab.ca; huzefa.khairullah@gov.ab.ca; james.chen@gov.ab.ca; janine.higgins@gov.ab.ca; Jason.R.Wang@gov.ab.ca; Joel.Costello@gov.ab.ca; john.storey-bishoff@gov.ab.ca; jonathan.klein@gov.ab.ca; joshua.adetunji@gov.ab.ca; Judy.May-McDonald@gov.ab.ca; kara.hryckowian@gov.ab.ca; karla.alsop@gov.ab.ca; Kathleen.Kellman@gov.ab.ca; katie.rowe@gov.ab.ca; Katie.Young@gov.ab.ca; keith.beraska@gov.ab.ca; kelsey.chorney@gov.ab.ca; Kendra.Isaac@gov.ab.ca; kimberly.motiuk@gov.ab.ca; Kim.Zeleny@gov.ab.ca; kusumakar.sharma@gov.ab.ca; laura.polasek@gov.ab.ca; Lindsay.mclaren@gov.ab.ca; Lindsey.Foottit@gov.ab.ca; Lisa.Brodziak@gov.ab.ca; lisa.neame@gov.ab.ca; lisa.reinbolt@gov.ab.ca; luigi.Dimarzo@gov.ab.ca; Maggie.scott@gov.ab.ca; manika.chopra@gov.ab.ca; marika.atkinson@gov.ab.ca; marilyn.albert@gov.ab.ca; marissa.lynds@gov.ab.ca; mark.teshima@gov.ab.ca; martina.krieger@gov.ab.ca; mary.metz@gov.ab.ca; Mathew.McCallum@gov.ab.ca; mathieu.lebel@gov.ab.ca; Matilda.Ricci@gov.ab.ca; matt.morgan@gov.ab.ca; matthew.pals@gov.ab.ca; max.fawcett@gov.ab.ca; melanie.rousseau@gov.ab.ca; Michelle.Casorso@gov.ab.ca; michelle.Nguyen@gov.ab.ca; mike.undershultz@gov.ab.ca; Monica.Micek@gov.ab.ca; morgan.schumacher@gov.ab.ca; myles.kitagawa@gov.ab.ca; nadine.beyersbergenweiting@gov.ab.ca; nicole.keef@gov.ab.ca; nigel.ward@gov.ab.ca; Nora.Abercrombie@gov.ab.ca; patrick.forseth@gov.ab.ca; paul.charest@gov.ab.ca; paul.wilson@gov.ab.ca; paul.zhu@gov.ab.ca; Peter.Moore@gov.ab.ca; Phyllis.Chui@gov.ab.ca; Raymond.Stemp@gov.ab.ca; Reanna.Zhang@gov.ab.ca; rhea.harrison@gov.ab.ca; richard.adjei@gov.ab.ca; richard.casey@gov.ab.ca; rick.berkenbosch@gov.ab.ca; Richard.McEwen@gov.ab.ca; rick.phaneuf@gov.ab.ca; Robert.Hamaliuk@gov.ab.ca; robert.magai@gov.ab.ca; Robyn.Kuhn@gov.ab.ca; Roger.Armstrong@gov.ab.ca; sam.fiorillo@gov.ab.ca; Sandra.Honour@gov.ab.ca; sarah.depoe@gov.ab.ca; scott.nicol@gov.ab.ca; shalini.kashyap@gov.ab.ca; shan.pletcher@gov.ab.ca; shannon.r.white@gov.ab.ca; sharon.willianen@gov.ab.ca; sheila.lucas@gov.ab.ca; sherry.ussher@gov.ab.ca; Simon.Wilkins@gov.ab.ca; Stan.Kavalinas@gov.ab.ca; stephanie.gazzola@gov.ab.ca; stephanie.simpson@gov.ab.ca; steven.ottoni@gov.ab.ca; susan.satterthwaite@gov.ab.ca; teresa.stokes@gov.ab.ca; Todd.Brunner@gov.ab.ca; tom.davis@gov.ab.ca; tom.hutchison@gov.ab.ca; victor.juorio@gov.ab.ca; Vitor.Dias@gov.ab.ca; ward.gegolick@gov.ab.ca; Jennifer Wigley; yan.liu@gov.ab.ca; Younes.ahmadi@gov.ab.ca; yvette.thompson@gov.ab.ca; zahidul.islam@gov.ab.ca; zohair.nadeem@gov.ab.ca;
B6: Alex MacIsaac | C6: Alex.MacIsaac@gov.ab.ca | D6: =C6 & "; " -> Alex.MacIsaac@gov.ab.ca;
B7: Alex Oiffer | C7: alex.oiffer@gov.ab.ca | D7: =C7 & "; " -> alex.oiffer@gov.ab.ca;
B8: Alexandra Miller-Tait | C8: Alexandra.Miller-Tait@gov.ab.ca | D8: =C8 & "; " -> Alexandra.Miller-Tait@gov.ab.ca;
B9: Amanda Halawell | C9: Amanda.Halawell@gov.ab.ca | D9: =C9 & "; " -> Amanda.Halawell@gov.ab.ca;
B10: Amanda Stuparyk | C10: Amanda.Stuparyk@gov.ab.ca | D10: =C10 & "; " -> Amanda.Stuparyk@gov.ab.ca;
B11: Amanda Tse | C11: amanda.tse@gov.ab.ca | D11: =C11 & "; " -> amanda.tse@gov.ab.ca;
B12: Amin | C12: Amin.J.bardestani@gov.ab.ca | D12: =C12 & "; " -> Amin.J.bardestani@gov.ab.ca;
B13: Amy Nugent | C13: Amy.Nugent@gov.ab.ca | D13: =C13 & "; " -> Amy.Nugent@gov.ab.ca;
B14: Andrea Orellana | C14: Andrea.Orellanaabreu@gov.ab.ca | D14: =C14 & "; " -> Andrea.Orellanaabreu@gov.ab.ca;
B15: Andrew Clayton | C15: Andrew.Clayton@gov.ab.ca | D15: =C15 & "; " -> Andrew.Clayton@gov.ab.ca;
B16: Andrew Schoepf | C16: andrew.schoepf@gov.ab.ca | D16: =C16 & "; " -> andrew.schoepf@gov.ab.ca;
B17: Angela Burkinshaw | C17: angela.burkinshaw@gov.ab.ca | D17: =C17 & "; " -> angela.burkinshaw@gov.ab.ca;
... B162: Jenny Yuan | C162: jenny.yuan@gov.ab.ca | D162: =C162 & "; " -> jenny.yuan@gov.ab.ca;

Sheet Playoff
B2: BB Coup | S2: Onion Coup
B3: Round of 16 | F3: Quarter-finals | J3: Semi-finals | N3: Finals | S3: Quarter-finals | W3: Semi-finals | AA3: Finals
B4: July 31-August 4 | F4: August 7-11 | J4: August 14-18 | N4: August 21-25 | S4: July 31-August 4 | W4: August 7-11 | AA4: August 14-18
B5: G11
B6: #1
B7: #16 | F7: Q11 | S7: ON11
F8: Winner G11 | S8: #17
B9: G12 | F9: Winner G12 | S9: #24
B10: #8
B11: #9 | J11: S11 | W11: SN11
J12: Winner Q11 | W12: Loser ON11
B13: G13 | J13: Winner Q12 | W13: Loser ON12
B14: #2
B15: #15 | F15: Q12 | S15: ON12
F16: Winner G13 | S16: #19
B17: G14 | F17: Winner G14 | N17: F1 | S17: #22
B18: #7 | N18: Winner S11
B19: #10 | N19: Winner S12 | AA19: FN1
AA20: Loser SN11
B21: G15 | N21: F2 | AA21: Loser SN12
B22: #3 | N22: Loser S11
B23: #14 | F23: Q13 | N23: Loser S12 | S23: ON13
F24: Winner G15 | S24: #18
B25: G16 | F25: Winner G16 | S25: #23
B26: #6
B27: #11 | J27: S12 | W27: SN12
J28: Winner Q13 | W28: Loser ON13
B29: G17 | J29: Winner Q14 | W29: Loser ON14
B30: #4
B31: #13 | F31: Q14 | S31: ON14
F32: Winner G17 | S32: #20
B33: G18 | F33: Winner G18 | S33: #21
B34: #5
B35: #12

Sheet Play-off
B2: Onion Coup | N2: Round of 16 | S2: BB Coup
B3: Finals | F3: Semi-finals | I3: Quarter-finals | R3: Quarter-finals | V3: Semi-finals | Z3: Finals
B4: August 22-26 | F4: August 15-19 | I4: August 8-12 | N4: August 1-5 | R4: August 8-12 | V4: August 15-19 | Z4: August 22-26
O5: G11
N6: 13 | O6: ='Game Results'!P10 -> Denboccerous kickyourassae | P6: 13
K7: ON11 | N7: 11 | O7: ='Game Results'!P33 -> Mad Bocce Fury Balls | P7: 11 | S7: Q11
J8: 12 | K8: =O7 -> Mad Bocce Fury Balls | S8: =O6 -> Denboccerous kickyourassae | T8: 12
J9: 10 | K9: =O10 -> Hidden team | O9: G12 | S9: =O11 -> Bocce City Rollers | T9: 10
N10: 7 | O10: ='Game Results'!P17 -> Hidden team | P10: 7
G11: SN11 | N11: 12 | O11: ='Game Results'!P18 -> Bocce City Rollers | P11: 12 | W11: S11
F12: 1 | G12: =K9 -> Hidden team | W12: =S8 -> Denboccerous kickyourassae | X12: 12
F13: 12 | G13: =K16 -> Alphabet Soup | O13: G13 | W13: =S17 -> Balls & Whistles | X13: 4
N14: 12 | O14: ='Game Results'!P11 -> Ball under Review | P14: 12
K15: ON12 | N15: 9 | O15: ='Game Results'!P24 -> Alphabet Soup | P15: 9 | S15: Q12
J16: 9 | K16: =O15 -> Alphabet Soup | S16: =O14 -> Ball under Review | T16: 6
J17: 12 | K17: =O19 -> Ballzinga | O17: G14 | S17: =O18 -> Balls & Whistles | T17: 12 | AA17: F1
N18: 13 | O18: ='Game Results'!P16 -> Balls & Whistles | P18: 13 | AA18: =W12 -> Denboccerous kickyourassae | AB18: 8
C19: FN1 | N19: 4 | O19: ='Game Results'!P19 -> Ballzinga | P19: 4 | AA19: =W28 -> Innovation Expos | AB19: 12
B20: 12 | C20: =G12 -> Hidden team
B21: 7 | C21: =G28 -> Katie Young and the Misfits | O21: G15 | AA21: F2
N22: 12 | O22: ='Game Results'!P12 -> Innovation Expos | P22: 12 | AA22: =W13 -> Balls & Whistles | AB22: 7
K23: ON13 | N23: 4 | O23: ='Game Results'!P23 -> Katie Young and the Misfits | P23: 4 | S23: Q13 | AA23: =W29 -> Mission Imbocceball | AB23: 12
J24: 12 | K24: =O23 -> Katie Young and the Misfits | S24: =O22 -> Innovation Expos | T24: 12
J25: 10 | K25: =O26 -> The Carbon Bakers | O25: G16 | S25: =O27 -> Parks and Wreck | T25: 10
N26: 4 | O26: ='Game Results'!P15 -> The Carbon Bakers | P26: 4
G27: SN12 | N27: 12 | O27: ='Game Results'!P20 -> Parks and Wreck | P27: 12 | W27: S12
F28: 7 | G28: =K24 -> Katie Young and the Misfits | W28: =S24 -> Innovation Expos | X28: 12
F29: 12 | G29: =K32 -> Ball Hogs | O29: G17 | W29: =S32 -> Mission Imbocceball | X29: 10
N30: 12 | O30: ='Game Results'!P13 -> Mission Imbocceball | P30: 12
K31: ON14 | N31: 8 | O31: ='Game Results'!P22 -> Ball Hogs | P31: 8 | S31: Q14
J32: 1 | K32: =O31 -> Ball Hogs | S32: =O30 -> Mission Imbocceball | T32: 12
J33: 12 | K33: =O34 -> Bocce Chachi's | O33: G18 | S33: =O35 -> Make Bocce Great Again | T33: 6
N34: 12 | O34: ='Game Results'!P14 -> Bocce Chachi's | P34: 12
N35: 9 | O35: ='Game Results'!P21 -> Make Bocce Great Again | P35: 9
